BEGIN:VCALENDAR
VERSION:2.0
PRODID:-//BPW Switzerland//NONSGML kigkonsult.se iCalcreator 2.16.12//
METHOD:PUBLISH
X-MS-OLK-FORCEINSPECTOROPEN:TRUE
BEGIN:VEVENT
UID:20260422T103057CEST-4411fbUPIR@BPW Switzerland
DTSTAMP:20260422T083057Z
DESCRIPTION:Schweizerische Alpine Mittelschule Davos SAMD\n\nDer Betrieb in
  unserer Region\n\nMittwoch\, 20. Juni 2012\, 19.00 Uhr\nSAMD\, Aula Gugge
 rbachstrasse 3\, Davos Platz\n\n\n \nProgramm\n19.00 Uhr\nTreffen und Apér
 o im Vorraum der Aula\, Guggerbachstrasse 3\, Davos Platz\nBegrüssung\, Re
 ferat und Rundgang mit Herrn Hansruedi Müller\, Rektor\n20.00 Uhr\nEssen i
 n der Cafeteria der SAMD\n \nMenu\nBunter Salat vom Buffet\nmit\nPouletbrü
 stli im Sesammantel\noder mit\n\nVegetarischen Frühlingsrollen\noder mit\n
 \nMarinierten Riesencrevetten\n\n***\n\nWein und Mineralwasser\nPreis p.P.
  CHF 20.00\n\n \nKosten\nDer Anlass selber ist kostenlos. Essen und Geträn
 ke gehen zu Lasten der Teilnehmenden und werden direkt vor Ort in bar begl
 ichen.\n \nAnmeldung bis Montag\, 18. Juni 2012\nüber den Anmeldedoodle\no
 der per Mail an Elsbeth Kluker \noder über 079 749 25 27\nAnmeldedoodle\n
 \n\n\n
DTSTART:20120620T190000
DTEND:20120620T223000
LOCATION:Aula\, SAMD\, Davos Platz
ORGANIZER:MAILTO:BPW Switzerland <davos@bpw.ch>
SUMMARY:Die hohe Schule des Weiterkommens
END:VEVENT
END:VCALENDAR
