BEGIN:VCALENDAR
VERSION:2.0
PRODID:-//BPW Switzerland//NONSGML kigkonsult.se iCalcreator 2.16.12//
METHOD:PUBLISH
X-MS-OLK-FORCEINSPECTOROPEN:TRUE
BEGIN:VEVENT
UID:20260422T102457CEST-33563UKIA1@BPW Switzerland
DTSTAMP:20260422T082457Z
DESCRIPTION:\nBusinesstag 2012 \nWirtschaftsforum für Frauen\n\n\n\nDiensta
 g\, 22. Mai 2012\n16.00 Uhr bis 19.20 Uhr\, anschliessend Networking-Apéro
 \nVaduzer-Saal\, Dr. Grass-Strasse 3\, FL-9490 Vaduz\n\n\nLeadership.Quali
 tät.Nachhaltigkeit\n\n\nKosten\n\nEintritt: CHF 160.- pro Person \nVorzugs
 preis: CHF 90.- (Kopie Studienausweis) \nMitglieder von BPW Switzerland er
 halten einen Preisnachlass. \n \nIn diesen Kosten sind inbegriffen:\n- Tag
 ungsunterlagen\n- Pausengetränke\n- Networking-Apéro inkl. Getränke\n \n\n
 Anmeldeschluss\n15. Mai 2012\n\nWeitere Informationen und Anmeldung
DTSTART:20120522T160000
DTEND:20120522T190000
LOCATION:Vaduz
ORGANIZER:MAILTO:BPW Switzerland <davos@bpw.ch>
SUMMARY:Businesstag 2012
END:VEVENT
END:VCALENDAR
