BEGIN:VCALENDAR
VERSION:2.0
PRODID:-//BPW Switzerland//NONSGML kigkonsult.se iCalcreator 2.16.12//
METHOD:PUBLISH
X-MS-OLK-FORCEINSPECTOROPEN:TRUE
BEGIN:VEVENT
UID:20260422T130804CEST-0813VlI8bp@BPW Switzerland
DTSTAMP:20260422T110804Z
DESCRIPTION:\n\n\nZum 15-Jahr-Jubiläum von Club Neva St. Petersburg wird ei
 ne Delegation vom Club Davos Klosters bestehend aus Vreny Fritsch\, Ursula
  Sommer Bauer und Françoise Stahel nach Russland fahren. BPW Club Chur\, d
 er Schwesternclub von Club Neva\, ist vertreten durch Marlis Giger und The
 rese Simka.\n\nDie Jubiläumsfeier dauert vom 14.- bis 16. September 2012.
DTSTART:20120914T080000
DTEND:20120916T180000
LOCATION:St. Petersburg
ORGANIZER:MAILTO:BPW Switzerland <davos@bpw.ch>
SUMMARY:15 Jahre BPW Club Neva - St. Petersburg
END:VEVENT
END:VCALENDAR
