BEGIN:VCALENDAR
VERSION:2.0
PRODID:-//BPW Switzerland//NONSGML kigkonsult.se iCalcreator 2.16.12//
METHOD:PUBLISH
X-MS-OLK-FORCEINSPECTOROPEN:TRUE
BEGIN:VEVENT
UID:20260422T103236CEST-3546JE1ntV@BPW Switzerland
DTSTAMP:20260422T083236Z
DESCRIPTION:\nEinkaufen & Informieren\nIn ausgesuchten Geschäften in Davos 
 und Klosters werden die Einkäufe in rote Equal Pay Day-Taschen verpackt. M
 it Informationsmaterial\, Pin und Kleber\, zum Selberlesen und Weitergeben
 .\n\n\n\n\n \nFotowettbewerb\nWer hat seine Handykamera stets griffbereit?
  Wer ist als rasender Fotoreporter am 7. März 2012 in Davos oder in Kloste
 rs auf den Einkaufsmeilen unterwegs? Wer hat ein gutes Auge und einen schn
 ellen Griff zur Kamera?\n\nWir suchen den originellsten Schnappschuss von 
 roten Equal Pay Day-Taschen\, die am 7. März 2012 in unseren Strassen gese
 hen werden.\n\nFoto in druckfähiger Qualität und unter Angabe von Name\, V
 orname\, Adresse und Alter per Mail einsenden an:\ninfo(at)bpw-davoskloste
 rs.ch\n\nZu gewinnen gibt es einen Gutschein über CHF 50.-\, einzulösen im
  Hotel Restaurant Bünda\, Davos Dorf.\n\n\n\nTeilnahmebedingungen\nTeilnah
 meberechtigt sind alle\, ausser den Mitgliedern des Vorstandes von BPW Dav
 os Klosters\, die die Jury bilden.\nDie Bilder nehmen nur an der Auslosung
  teil\, wenn sie rechtzeitig und über die angegebene E-Mail-Adresse übermi
 ttelt worden sind. Es wird keine Korrespondenz geführt.\nDer Gewinner oder
  die Gewinnerin wird persönlich benachrichtigt.\nMit dem Einsenden der Fot
 os gehen alle Rechte an den Bildern auf BPW Davos Klosters über\, insbeson
 dere das Recht zur Publikation des Bildes.\n\nEinsendeschluss: 12. März 20
 12\n\n 
DTSTART:20120307T000000
DTEND:20120307T000000
LOCATION:Davos und Klosters
ORGANIZER:MAILTO:BPW Switzerland <davos@bpw.ch>
SUMMARY:Equal Pay Day 2012
END:VEVENT
END:VCALENDAR
