BEGIN:VCALENDAR
VERSION:2.0
PRODID:-//BPW Switzerland//NONSGML kigkonsult.se iCalcreator 2.16.12//
METHOD:PUBLISH
X-MS-OLK-FORCEINSPECTOROPEN:TRUE
BEGIN:VEVENT
UID:20260422T112752CEST-4724v8x6sM@BPW Switzerland
DTSTAMP:20260422T092752Z
DESCRIPTION:PEP Personal Empowerment Program\n\nein interaktives Grundlagen
 seminar für Frauen auf Erfolgskurs\n \n \n\n\nWas ist PEP?\nPEP  steht für
  Personal Empowerment Program\,ein Trainingsprogramm\, welches von BPWentw
 ickelt wurde. Es richtet sich speziell an Frauen mit dem Ziel\, die indivi
 duellen Leadership-Skills herauszuarbeiten. Das Seminar ist modular aufgeb
 aut und vermittelt die Grundlagen für die wichtigsten Fähigkeiten und Kenn
 tnisse\, die 'Frauen auf Erfolgskurs' benötigen.\n \nDas Erreichen Ihrer p
 ersönlichen Ziele ist Ihnen wichtig? Übernehmen Sie die Führung - mit Powe
 r\, Durchsetzungsvermögen und einem adäquaten Auftritt.\n \nFreuen Sie sic
 h auf viele praktische Übungen zum Mitmachen\, Ausprobieren\, mit einem of
 fenen Feedback und viel Spaß!\n \nDie Trainingsinhalte:\n \n·         Vors
 tellung des internationalen Frauennetzwerkes BPW\n·         Verhaltens- un
 d Kommunikationsstile kennen lernen\n·         Effektive Teamzusammensetzu
 ng\n·         Präsentationstechniken ausprobieren\n·         Spontan Reden
  halten\n·         Erfolgreich Netzwerken\n·         In Vorstellungsgesprä
 chen bestehen\n·         Verhandlungsgeschick für den Beruf und andere Gel
 egenheiten\n·         Führungs-Qualitäten entwickeln\n·         Parlamenta
 rische Regeln - Meetings und Konferenzen leiten\n·         Business-Etiket
 te\n·         Politisches Engagement und Lobbyarbeit\n·         Ziele\, We
 rte\, Visionen - greifen Sie nach den Sternen!\n·         Selbstmarketing 
 und Öffentlichkeitsarbeit\n \nDer Schwerpunkt liegt auf interaktiven Übung
 en.\nAusprobieren und direkt umsetzen!\n\nDer Ablauf\n2 Tage Intensiv-Trai
 ning für 8-12 Teilnehmerinnen\n \nDer Termin\n21.04.2012                  
 10:00 - 18:30\n22.04.2012                   9:00 - 17:00\n \nDer Ort\nRest
 aurant VA BENE\nGäuggelistrasse 60\, 7000 Chur\nwww.restaurant-vabene.ch/
 \n \nDie Investition\n500\,00 CHF\n400\,00  CHF für BPW-Mitglieder\n \nDie
  Trainerin\nSabine Schmelzer\nOfficial Facilitator BPW\nTelefon 079 78 77 
 088\nsabine.schmelzer@bpw-europe.org\n\nAnmeldeschluss\n31. März 2012\n\n
 \nAnmeldung
DTSTART:20120421T100000
DTEND:20120422T170000
LOCATION:Chur\, Restaurant Va Bene
ORGANIZER:MAILTO:BPW Switzerland <davos@bpw.ch>
SUMMARY:PEP Seminar in Chur
END:VEVENT
END:VCALENDAR
