BEGIN:VCALENDAR
VERSION:2.0
PRODID:-//BPW Switzerland//NONSGML kigkonsult.se iCalcreator 2.16.12//
METHOD:PUBLISH
X-MS-OLK-FORCEINSPECTOROPEN:TRUE
BEGIN:VEVENT
UID:20260422T101433CEST-4712fu6TFt@BPW Switzerland
DTSTAMP:20260422T081433Z
DESCRIPTION:Liebe Youngs und Interessentinnen\n\nEs ist soweit\, Zeit für d
 en nächsten Young BPW Regio After Work. Wir laden euch zu gemütlichem Netw
 orking nach der Arbeit in Basel ein.\n\nWann\nDonnerstag\, 3. Mai 2012\, a
 b 19.30 Uhr \n(Ihr könnt auch später dazu stossen)\n\nWo   \nRestaurant no
 ohn\, Basel \n(Wir treffen uns an der Bar im Eingangsbereich \nund ziehen 
 später in den Restaurantbereich um)\n\nAnmeldungen und Feedback \nbitte di
 rekt an susanne.tiedtke@bpw.ch \noder Mobil: 078 625 19 48.\n\nWir freuen 
 uns auf einen schönen Abend mit Euch.\n\nSilvia Mathys und Susanne Tiedtke
 \n\nGeschäftsstelle/Bureau central/Ufficio centrale\nBPW Switzerland\nSchö
 nbühlstrasse 10\n8032 Zürich\nTel  044 948 23 20\nFax 044 256 70 80\nwww.b
 pw.ch\nwww.equalpayday.ch\n
DTSTART:20120503T193000
DTEND:20120503T223000
LOCATION:Rest. noohn\, Basel
ORGANIZER:MAILTO:BPW Switzerland <davos@bpw.ch>
SUMMARY:Young BPW Regio After Work Basel
END:VEVENT
END:VCALENDAR
