BEGIN:VCALENDAR
VERSION:2.0
PRODID:-//BPW Switzerland//NONSGML kigkonsult.se iCalcreator 2.16.12//
METHOD:PUBLISH
X-MS-OLK-FORCEINSPECTOROPEN:TRUE
BEGIN:VEVENT
UID:20260422T103225CEST-11302zsnBW@BPW Switzerland
DTSTAMP:20260422T083225Z
DESCRIPTION:Informal Get-Together in English\n\n\n\n\nJoin us and practise 
 your conversational skills in English! No registration required - just dro
 p in! Bring your partner/friend with you and enjoy this Happy Hour-Special
 !\n \nStarting\nThursday June 7\, 2012\, 7-8 pm\n \n... then\nEvery 1st & 
 3rd Thursday\, 7-8 pm\n\nGrischa Hotel\, Davos Platz\nPulsa Bar & Lounge\n
  
DTSTART:20120607T190000
DTEND:20120607T200000
LOCATION:Hotel Grischa\, Bar&Lounge\, Davos Platz
ORGANIZER:MAILTO:BPW Switzerland <davos@bpw.ch>
SUMMARY:After Work Chat
END:VEVENT
END:VCALENDAR
