BEGIN:VCALENDAR
VERSION:2.0
PRODID:-//BPW Switzerland//NONSGML kigkonsult.se iCalcreator 2.16.12//
METHOD:PUBLISH
X-MS-OLK-FORCEINSPECTOROPEN:TRUE
BEGIN:VEVENT
UID:20260422T130942CEST-3058n7KzS3@BPW Switzerland
DTSTAMP:20260422T110942Z
DESCRIPTION:Montag\, 29. Oktober 2012\, Hotel Grischa Davos Platz\n\nBPW Da
 vos Klosters ist erstmals zum Treffen der Service-Clubs Rotary\, Lions\, K
 iwanis und Junge Wirtschaftskammer eingeladen. Das Treffen 2012 steht unte
 r der Leitung des Kiwanis Club Davos/Klosters.\nAnmeldedoodle\n\nProgramm
 \n19.00h\nApéro im Foyer\nofferiert vom Kiwanis Club Davos / Klosters\nBe
 grüssung KC Davos/Klosters\, Präsidentin Frau Eva Ochsner\n\n20.00h\nNacht
 essen im Restaurant Monta\nVorspeise\nVorstellung BPW Davos Klosters\, Prä
 sidentin Frau Ursula Schmid\nHauptgang\n\n21.30h\nPodiums-Gespräch ‚Davos 
 / Klosters - quo vadis?’\nTeilnehmer:\nHerr Tarzisius Caviezel\, Landamman
 n Davos (ab 01.01.13)\nHerr Kurt Steck\, Gemeindepräsident Klosters-Serneu
 s (ab 01.01.13)\nModeration:\nHerr Hans Peter Kocher\nFragerunde & Dessert
 \n\n23.00h\nEnde des offiziellen Teils des Abends\n \nKosten\nEssen pro Pe
 rson (inkl. Mineral / Café) Fr. 50.00\n \nAnmeldung\nbis 15. Oktober 2012
 \nüber den Anmeldedoodle\nper Mail an Elsbeth Kluker\noder über 079 749 25
  27\nfür Mitglieder und registrierte Interessentinnen\nAnmeldedoodle\n
DTSTART:20121029T190000
DTEND:20121029T230000
LOCATION:Davos Platz\, Hotel Grischa
ORGANIZER:MAILTO:BPW Switzerland <davos@bpw.ch>
SUMMARY:5er Treff - Davos/Klosters: Quo vadis?
END:VEVENT
END:VCALENDAR
