BEGIN:VCALENDAR
VERSION:2.0
PRODID:-//BPW Switzerland//NONSGML kigkonsult.se iCalcreator 2.16.12//
METHOD:PUBLISH
X-MS-OLK-FORCEINSPECTOROPEN:TRUE
BEGIN:VEVENT
UID:20260422T131244CEST-59460UH8e9@BPW Switzerland
DTSTAMP:20260422T111244Z
DESCRIPTION:Neue Generationen von Frauen stehen vor oder in der Menopause. 
 Anders als ihre Mütter und Grossmütter treten sie nicht ins zweite Glied z
 urück\, sondern sie brechen auf und gehen neue Wege: Sie gründen Firmen\, 
 Initiativen und Organisationen oder sie realisieren Projekte\, die ihnen a
 m Herzen liegen. Mit Tatkraft\, Kreativität und – oft auch – eigenen Mitte
 ln. Kein Wunder: Wer heute in der Schweiz zwischen 40 und 50 Jahre alt ist
 \, kann oder muss damit rechnen\, 90 zu werden!\n\nMit unserem Symposium W
 echseljahre – Wandeljahre haben wir deshalb eine Plattform der Information
  und des Austausches für interessierte Öffentlichkeit und Fachleute entwic
 kelt. Es fokussiert Chancen und Möglichkeiten der Menopause am Anfang des 
 21. Jahrhunderts.\n\nWir laden Sie ganz herzlich ein\, mit Spezialistinnen
  über dieses Thema zu sprechen und dabei Ihr Netzwerk zu erweitern. Wir ha
 ben für Sie interessante Persönlichkeiten aus all den Facetten der Wechsel
 jahrthemen gewinnen können.\n\nInfos und Anmeldung hier.
DTSTART:20120913T130000
DTEND:20120913T200000
LOCATION:Kunsthaus Zürich
ORGANIZER:MAILTO:BPW Switzerland <davos@bpw.ch>
SUMMARY:Symposium Wechseljahre
END:VEVENT
END:VCALENDAR
