BEGIN:VCALENDAR
VERSION:2.0
PRODID:-//BPW Switzerland//NONSGML kigkonsult.se iCalcreator 2.16.12//
METHOD:PUBLISH
X-MS-OLK-FORCEINSPECTOROPEN:TRUE
BEGIN:VEVENT
UID:20260422T131117CEST-6642GdHgjL@BPW Switzerland
DTSTAMP:20260422T111117Z
DESCRIPTION:Informal Get-Together in English\n\n\n\n\n No registration requ
 ired - just drop in! Bring your partner/friend with you and enjoy this Aft
 erWork-Special!\n \nMeeting\nThursday\, October 4\, 2012\, 7-8 pm\n\nGrisc
 ha Hotel\, Davos Platz\nPulsa Bar & Lounge
DTSTART:20121004T190000
DTEND:20121004T200000
LOCATION:Hotel Grischa\, Bar&Lounge\, Davos Platz
ORGANIZER:MAILTO:BPW Switzerland <davos@bpw.ch>
SUMMARY:After Work Chat
END:VEVENT
END:VCALENDAR
