BEGIN:VCALENDAR
VERSION:2.0
PRODID:-//BPW Switzerland//NONSGML kigkonsult.se iCalcreator 2.16.12//
METHOD:PUBLISH
X-MS-OLK-FORCEINSPECTOROPEN:TRUE
BEGIN:VEVENT
UID:20260422T112644CEST-8481GuUm7s@BPW Switzerland
DTSTAMP:20260422T092644Z
DESCRIPTION:Informal Get-Together in English\n\n\n\n\n No registration requ
 ired - just drop in! Bring your partner/friend with you and enjoy this Aft
 erWork-Special!\n \nMeeting\nThursday\, November 1\, 2012\, 7-8 pm\n(every
  1st and 3rd Thursday a month)\n\nGrischa Hotel\, Davos Platz\nPulsa Bar &
  Lounge\n\n 
DTSTART:20121101T190000
DTEND:20121101T200000
LOCATION:Hotel Grischa\, Bar&Lounge\, Davos Platz
ORGANIZER:MAILTO:BPW Switzerland <davos@bpw.ch>
SUMMARY:After Work Chat
END:VEVENT
END:VCALENDAR
