BEGIN:VCALENDAR
VERSION:2.0
PRODID:-//BPW Switzerland//NONSGML kigkonsult.se iCalcreator 2.16.12//
METHOD:PUBLISH
X-MS-OLK-FORCEINSPECTOROPEN:TRUE
BEGIN:VEVENT
UID:20260422T115843CEST-3369UxpM0u@BPW Switzerland
DTSTAMP:20260422T095843Z
DESCRIPTION:Informal Get-Together in English\n\n\n\n\nNo registration requi
 red - just drop in! Bring your partner/friend with you and enjoy this Afte
 rWork-Special!\n \nMeeting\nThursday\, January 3\, 2013\, 7-8 pm\n(every 1
 st and 3rd Thursday a month)\n\nGrischa Hotel\, Davos Platz\nPulsa Bar & L
 ounge\n\n\n\n 
DTSTART:20130103T190000
DTEND:20130103T200000
LOCATION:Hotel Grischa\, Bar&Lounge\, Davos Platz
ORGANIZER:MAILTO:BPW Switzerland <davos@bpw.ch>
SUMMARY:Afterwork Chat
END:VEVENT
END:VCALENDAR
