BEGIN:VCALENDAR
VERSION:2.0
PRODID:-//BPW Switzerland//NONSGML kigkonsult.se iCalcreator 2.16.12//
METHOD:PUBLISH
X-MS-OLK-FORCEINSPECTOROPEN:TRUE
BEGIN:VEVENT
UID:20260422T120454CEST-4732T3RUsp@BPW Switzerland
DTSTAMP:20260422T100454Z
DESCRIPTION:Informal Get-Together in English\n\n\n\n\n No registration requ
 ired - just drop in! Bring your partner/friend with you and enjoy this Aft
 erWork-Special!\n \nMeeting\nThursday\, February 20\, 2013\, 7-8 pm\n(ever
 y 1st and 3rd Thursday a month)\n\nGrischa Hotel\, Davos Platz\nPulsa Bar 
 & Lounge\n\n\n\n\n 
DTSTART:20130221T190000
DTEND:20130221T200000
LOCATION:Hotel Grischa\, Bar&Lounge\, Davos Platz
ORGANIZER:MAILTO:BPW Switzerland <davos@bpw.ch>
SUMMARY:Afterwork Chat
END:VEVENT
END:VCALENDAR
