BEGIN:VCALENDAR
VERSION:2.0
PRODID:-//BPW Switzerland//NONSGML kigkonsult.se iCalcreator 2.16.12//
METHOD:PUBLISH
X-MS-OLK-FORCEINSPECTOROPEN:TRUE
BEGIN:VEVENT
UID:20260422T114411CEST-1390ljfNnP@BPW Switzerland
DTSTAMP:20260422T094411Z
DESCRIPTION:\nEinführungsreferat Sema Miller\nArchitektin bei Studio MBH un
 d Baulink Davos\n\n\n \nAnmeldedoodle \n \n\nProgramm\n19.00 Uhr\nApéro im
  Hilton Garden Inn\, Davos Platz\, Foyer Seminarräume\n\n19.30 Uhr\nZwisch
 en Vorschriften und Ästhetik\nEinführungsreferat von Sema Miller\nRaum Rin
 erhorn\n\n20.00 Uhr\nRundgang Hotel Hilton Garden Inn und Büro Baulink\nan
 schliessend gemeinsames Nachtessen im THE GRILL\n \nMenus\nFleisch:\nGebra
 tene Maispoulardenbrust auf Kürbis-Kartoffel-Ragout\nFisch:\nRed Snapper F
 ilet auf crèmigem Risotto mit Navetten-Fenchel-Gemüse\nVegi:\nGelbes Gemüs
 ecurry im Bananenblatt mit Jasminreis\nFr. 24.00\n \nKosten\nDer Anlass se
 lber ist kostenlos. Essen und Getränke gehen zu Lasten der Teilnehmenden u
 nd werden direkt vor Ort in bar beglichen.\n \nAnmeldung\nbis Montag\, 7. 
 Januar 2013\nüber den Anmeldedoodle \nper Mail an Elsbeth Kluker\noder Tel
 efon 079 749 25 27\nAnmeldedoodle \n\n\n\n 
DTSTART:20130109T190000
DTEND:20130109T223000
LOCATION:Hotel Hilton Garden Inn\, Davos
ORGANIZER:MAILTO:BPW Switzerland <davos@bpw.ch>
SUMMARY:Zwischen Vorschriften und Ästhetik
END:VEVENT
END:VCALENDAR
