BEGIN:VCALENDAR
VERSION:2.0
PRODID:-//BPW Switzerland//NONSGML kigkonsult.se iCalcreator 2.16.12//
METHOD:PUBLISH
X-MS-OLK-FORCEINSPECTOROPEN:TRUE
BEGIN:VEVENT
UID:20260422T115117CEST-1994gv4H1v@BPW Switzerland
DTSTAMP:20260422T095117Z
DESCRIPTION: \nSpecial Guest\nMonica Welti\, Mitglied des Zentralvorstandes
  von BPW Switzerland\n\n\nRoadshow von BPW Switzerland:\n«Frauen brauchen 
 den vollen und freien Zugang zu allen Ebenen der Unternehmen\, bevor sie f
 ür sich beanspruchen können\, den Männern gleichgestellt zu sein.» Das sag
 te die Gründerin von BPW\, Lena Madesin Phillips\, vor mehr als 80 Jahren.
  Sie wäre schockiert zu wissen\, dass dieses Ziel auch heute noch nicht er
 reicht ist. Deshalb fordert der Zentralvorstand von BPW Switzerland Frauen
 quoten in Verwaltungsräten. ZV-Mitglied Monika Welti stellt die Strategie 
 vor\, die zu dieser Forderung geführt hat und erklärt\, wie wir Frauen in 
 die höchsten Chargen bringen wollen.\nAnmeldedoodle\n\n\n \nProgramm\n19.0
 0 Uhr\nApéro\n19.30 Uhr\nAbendessen mit Kerzenlichtfeier und Referat\n \nM
 enus\nIndische Curry-Apfel-Suppe\nmit knusprigen Glasnudeln\n***\nFleisch:
  Grillierte Poulardenbrust aus der Soja-Vanille-Marinade\nFisch: Roter Sol
 datenfisch aus der Limonen-Koreander-Marinade\nVegi: Gemüse-Spiess im Temp
 uramantel\nalle mit\nroter Thai-Curry-Sauce\, Basmatireis und Wokgemüse\n*
 **\nFlambierte Zitronengrascreme mit Mangochutney und Kokosnuss-Glace\n\nF
 leisch oder Fisch: 50.-\nVegi: 46.00\n \nAnreise\nHotel Pardenn-Piz Buin\,
  Alte Bahnhofstrasse 1\, Klosters (5 Gehminuten vom Bahnhof)\;\nDavos ab 1
 8.02 /18.06 - Klosters an 18.28 Uhr\nKlosters ab 22 30 oder 23.20 - Davos 
 an 22.51/22.57 oder 23.51/57\n\nBitte um Angabe bei der Anmeldung\, wer Mi
 tfahrplatz wünscht bzw. anbietet. Mitfahrerinnen zahlen den Fahrerinnen 5.
 - retour.\n \nAnmeldung\nbis 11. Februar 2013\nüber den Anmeldedoodle\node
 r an Elsbeth Kluker\nper Mail oder per Natel 079 749 25 27\n\n\n 
DTSTART:20130213T190000
DTEND:20130213T223000
LOCATION:BPW Davos Klosters\, Pardenn/Piz Buin\, Klosters
ORGANIZER:MAILTO:BPW Switzerland <davos@bpw.ch>
SUMMARY:Kerzenlichtfeier
END:VEVENT
END:VCALENDAR
