BEGIN:VCALENDAR
VERSION:2.0
PRODID:-//BPW Switzerland//NONSGML kigkonsult.se iCalcreator 2.16.12//
METHOD:PUBLISH
X-MS-OLK-FORCEINSPECTOROPEN:TRUE
BEGIN:VEVENT
UID:20260422T121559CEST-4471bzAV3i@BPW Switzerland
DTSTAMP:20260422T101559Z
DESCRIPTION:\nBPW and FRIENDS - Let's Go to the Movies!\nDas Kino Arkaden D
 avos zeigt auf Anregung der Davoser Frauenorganisationen BPW Davos Kloster
 s\, Bündnerinnen Vereinigung Davos\, Frauenbund Davos\, Kath. Frauenverein
  Davos\, Landfrauenverein Davos\, SGF Davos Dorf zum Internationalen Tag d
 er Frau\n \nLa Source des Femmes\nFilm von Radu Mihaileanu\n\n\nAnmeldedoo
 dle\n \nIn einem verlassenen Dörfchen irgendwo zwischen Nordafrika und dem
  Nahen Osten gibt es weder ein Strom- noch ein Handynetz. Die einzige Wass
 erquelle ist ein Brunnen ausserhalb des Ortes\, bei dem die Frauen mühsam 
 Wasser holen müssen\, während die männlichen Bewohner Karten spielen und s
 ich auf der Terasse sonnen. Der archaische Charme der Gegend lockt zwar da
 nn und wann Touristen an\, die Geld liegen lassen\, aber auf Dauer sind vo
 r allem die Frauen nicht mehr einverstanden mit der Situation und fordern 
 eine Wasserleitung\, welche die Männer gefälligst zu bauen haben. Um Druck
  auszuüben\, starten die Frauen einen Sex-Streik.\n\n\nBeginn der Vorstell
 ung\n20.30 Uhr\n(Originalsprache mit dt. Untertiteln)\n\nKinoticket\nCHF 1
 8.00\n\nAnmeldung\nbis 7. März 2013 über unseren Anmeldedoodle.\nDiese Anm
 eldung erfolgt aus rein administrativen Gründen für den Club (Vereinbarung
  mit Kino wegen Platzgarantie)\, ist aber KEINE Platzreservation! Tickets 
 müssen an der Abendkasse bezogen werden.\n\n\n\n\n\n\n 
DTSTART:20130308T203000
DTEND:20130308T223000
LOCATION:Kino Arkaden\, Davos Platz
ORGANIZER:MAILTO:BPW Switzerland <davos@bpw.ch>
SUMMARY:Internationaler Tag der Frau
END:VEVENT
END:VCALENDAR
