BEGIN:VCALENDAR
VERSION:2.0
PRODID:-//BPW Switzerland//NONSGML kigkonsult.se iCalcreator 2.16.12//
METHOD:PUBLISH
X-MS-OLK-FORCEINSPECTOROPEN:TRUE
BEGIN:VEVENT
UID:20260422T112701CEST-4272jwhuJk@BPW Switzerland
DTSTAMP:20260422T092701Z
DESCRIPTION:\n\nMittwoch\, 20. März 2013\, Hotel Sunstar Park\, Davos Platz
 \nBeginn der Versammlung: 19.30 Uhr\nAnschliessend: Cheese & Wine-Party in
 kl. Wein\, Käse und Nussbrot\, 30.- p.P.\n\nDie Einladung mit Traktandenli
 ste und Unterlagen wird per Post zugestellt.\nDie Unterlagen stehen im Mem
 berbereich auch zum Download zur Verfügung.\n\nAnmeldungen bitte bis 18. M
 ärz 2013 über den Anmeldedoodle\,\nper Mail oder über 079 216 53 25\nAnmel
 dedoodle\n \n
DTSTART:20130320T193000
DTEND:20130320T223000
LOCATION:BPW Davos Klosters\, Sunstar Parkhotel
ORGANIZER:MAILTO:BPW Switzerland <davos@bpw.ch>
SUMMARY:57. Mitgliederversammlung
END:VEVENT
END:VCALENDAR
