BEGIN:VCALENDAR
VERSION:2.0
PRODID:-//BPW Switzerland//NONSGML kigkonsult.se iCalcreator 2.16.12//
METHOD:PUBLISH
X-MS-OLK-FORCEINSPECTOROPEN:TRUE
BEGIN:VEVENT
UID:20260422T115239CEST-19471X5L3r@BPW Switzerland
DTSTAMP:20260422T095239Z
DESCRIPTION:Es gibt keinen zweiten ersten Eindruck\n\nEinführungsreferat Ma
 ja Barandun\, Kosmetikerin\n\nMittwoch\, 10. April 2013\, 19.00 Uhr\nHotel
  Grischa\, Davos Platz\n\n\n\nMit dem perfekten Business Make-up gehen Sie
  sicher durch den Tag!\nNach einem Apéro und einer kurzen Einführung zeigt
  uns Kosmetikerin Maja Barandun in einem Kurz-Workshop die nötigen Schritt
 e dazu. Sie vermittelt uns Tipps und Anregungen rund um unser Aussehen und
  wie wir unsere Persönlichkeit nochmehr hervorheben können.\nBitte einen H
 andspiegel (am besten zum Aufstellen) und Schminkutensilien mitbringen!\n
 \nAnmeldedoodle\n\nProgramm\n19.00 Uhr Treffpunkt Hotel Grischa\, Davos Pl
 atz\n19.30 Uhr Workshop\n \nMenu\n\nBlattsalat mit Ei und Croûtons\nFleisc
 hmenu: Rahmschnitzel mit Nudeln\nVegimenu: Tofurahmschnitzel mit Nudeln\nF
 r. 25.00\n \n\nKosten\n\nDer Anlass selber ist kostenlos. Essen und Geträn
 ke gehen zu Lasten der Teilnehmenden und werden direkt vor Ort in bar begl
 ichen.\n \n\nAnmeldung bis Montag\, 8. April 2013\n\nüber den Anmeldedoodl
 e\nper Mail an Elsbeth Kluker\noder Telefon 079 749 25 27\n\nAnmeldedoodle
 \n
DTSTART:20130410T190000
DTEND:20130410T223000
LOCATION:BPW Davos Klosters\, Hotel Grischa\, Davos
ORGANIZER:MAILTO:BPW Switzerland <davos@bpw.ch>
SUMMARY:Gepflegt durch den Businessalltag
END:VEVENT
END:VCALENDAR
