BEGIN:VCALENDAR
VERSION:2.0
PRODID:-//BPW Switzerland//NONSGML kigkonsult.se iCalcreator 2.16.12//
METHOD:PUBLISH
X-MS-OLK-FORCEINSPECTOROPEN:TRUE
BEGIN:VEVENT
UID:20260422T115255CEST-7268Jprt5A@BPW Switzerland
DTSTAMP:20260422T095255Z
DESCRIPTION:Öffentliche Veranstaltung in Klosters\nmit Projektvorstellung u
 nd kontradiktorischer Diskussion\norganisiert von Kiwanis\, Lions und BPW 
 Davos Klosters\nMontag\, 7. Januar 2013\, Silvretta Parkhotel Klosters\nAn
 meldedoodle\n \nProgramm\n19.00 Uhr\nTreffen der Clubmitglieder der organi
 sierenden Clubs\, mit Friends/Partnern\, zu einem Apéro Riche\n\n20.00 Uhr
 \nPräsentation des Projektes Olympiakandidatur 2022 von St. Moritz und Dav
 os\nReferent: Gian Gilli\n\n21.00 Uhr\nPodiumsdiskussion\nPeter Bätschi (p
 ro)\, Rolf Marugg (contra)\n \nKosten\nDie Veranstaltung ab 20.00 Uhr ist 
 kostenlos.\nDer Eintritt zum Apéro Riche von 19.00 - 19.45 Uhr kostet für 
 BPW and Friends/Partners CHF 30.-\, inklusive Apéro Riche und Getränke\, S
 ponsoring by BPW Davos Klosters. Der Betrag ist am Eingang bar zu zahlen. 
 Anmeldung aus organisatorischen Gründen erforderlich über unseren Anmelded
 oodle.\n \nAnmeldung\nBis Freitag\, 4. Januar 2013\nüber unseren Anmeldedo
 odle\noder per Mail an Elsbeth Kluker\noder Telefon 079 749 25 27\n\n \nIn
 formationen\n\nBefürworter\nwww.gr2022.ch\n\nGegner\nwww.olympia-nein.ch\n
 \n\n 
DTSTART:20130107T190000
DTEND:20130107T220000
LOCATION:Klosters\, Kiwanis/Lions/BPW\, Hotel Silvretta
ORGANIZER:MAILTO:BPW Switzerland <davos@bpw.ch>
SUMMARY:Olympia 2022 - Ja oder Nein?
END:VEVENT
END:VCALENDAR
