BEGIN:VCALENDAR
VERSION:2.0
PRODID:-//BPW Switzerland//NONSGML kigkonsult.se iCalcreator 2.16.12//
METHOD:PUBLISH
X-MS-OLK-FORCEINSPECTOROPEN:TRUE
BEGIN:VEVENT
UID:20260420T154524CEST-5353zmnvS6@BPW Switzerland
DTSTAMP:20260420T134524Z
DESCRIPTION:\nGesundheitsdrogerie Zier\, Davos Dorf\nKraft aus der Natur\n
 \nAnmeldedoodle\nKann mir die Natur bei Krankheiten helfen? Wie kann ich d
 ie Kräfte der Natur zur Erhaltung meiner Gesundheit nutzen?\n\nRoland Zier
 \, Inhaber Gesundheitsdrogerie Zier\, Davos Dorf\, zeigt uns mit seinem Re
 ferat auf\, wie die Kräfte der Natur wirken und gibt einen Einblick in das
  grosse Spektrum der Naturheilmittel.\n\nProgramm\n\n19.00 Uhr\nTreffpunkt
  und Apéro Gesundheitsdrogerie Zier\, Davos Dorf\nAnschliessend Referat un
 d Nachtessen im Hotel Seehof\, Davos Dorf\n\nMenu\n\nFitnessteller mit Mai
 spoulardenbrüstli\nVegi:\nFitnessteller mit Antipastigemüse\nFr. 24.00\n\n
 Dessert\n\nCaramelköpfli mit Rahm\nFr. 6.00\n\nKosten\n\nDer Anlass selber
  ist kostenlos. Essen und Getränke gehen zu Lasten der Teilnehmenden und w
 erden direkt vor Ort in bar beglichen.\n\nWeg\n\nWir bilden Fahrgemeinscha
 ften. Bitte bei der Anmeldung eintragen\, ob ein Mitfahrplatz gewünscht wi
 rd.\n\nAnmeldedoodle\n\nAnmeldung \nbis Montag\, 10. Juni 2012\n\nüber den
  Anmeldedoodle \nper Mail an Elsbeth Kluker\noder Telefon 079 749 25 27\n
 \n \n
DTSTART:20130612T190000
DTEND:20130612T220000
LOCATION:BPW Davos Klosters\, Drogerie Zier
ORGANIZER:MAILTO:BPW Switzerland <davos@bpw.ch>
SUMMARY:Kraft aus der Natur - Der Betrieb in unserer Region
END:VEVENT
END:VCALENDAR
