BEGIN:VCALENDAR
VERSION:2.0
PRODID:-//BPW Switzerland//NONSGML kigkonsult.se iCalcreator 2.16.12//
METHOD:PUBLISH
X-MS-OLK-FORCEINSPECTOROPEN:TRUE
BEGIN:VEVENT
UID:20260422T112753CEST-1208Ir90Uf@BPW Switzerland
DTSTAMP:20260422T092753Z
DESCRIPTION: \n\n \nWeinkunde mit Degustation und Imbiss\n\nWas ist ein Abg
 ang? Wie schmeckt Tannin? Welche Traubensorten sollten wir kennen?\n\n“… a
 usgewogener und kräftiger Gaumen mit breiter Fülle\, charaktervoll mit prä
 senter Feuersteinaromatik\, lange aromatische Nachhaltigkeit”\n\nWie solle
 n wir das verstehen? Wir nähern uns den Weinaromen und ihrer Beschreibung.
 \n\nDer Kurs richtet sich ausschliesslich an Mitglieder von BPW und wird n
 ur bei genügender Nachfrage durchgeführt.\n\n\n \n\n	\n		\n			Datum\n			27. Juni 20
 13\, 18.30 bis 21.30 Uhr\n		\n		\n			Ort\n			Kaufmann Weine\, Davos Dorf\n		\n		\n			Kursle
 itung\n			Herr Manetsch\n		\n		\n			Kurskosten\n			CHF 70.00\n		\n		\n			Teilnahme\n			nur für BP
 W\n		\n		\n			Teilnehmerinnenzahl\n			mind. 10\, max. 12 Teilnehmerinnen\n		\n	\n\n\n\n
  \nAnmeldungen\n\nAnmeldungen bis 1. Mai 2013 ausschliesslich über die Web
 seite\nAnmeldung\n \n\nBedingungen\n\nDie Anmeldungen sind verbindlich. Mi
 tteilung über die definitive Durchführung erfolgt am 5. Mai 2013 (Mindestt
 eilnehmerinnenzahl). Bei zu geringer Teilnehmerinnenzahl wird der Kurs ohn
 e Kostenfolge für den Club nicht durchgeführt. Die Einschreibung erfolgt n
 ach Eingang der Anmeldung\; maximale Teilnehmerinnenzahl: 12 BPW.\n\nMit d
 er Mitteilung der definitiven Durchführung werden die Kurskosten fällig.\n
 \nBei Abmeldungen nach Einzahlung der Kursgebühr besteht kein Anspruch auf
  Rückzahlung der Gebühren\; der Club zahlt die Gebühren zurück\, wenn der 
 Kursplatz neu besetzt werden kann.\n\nDie Anmeldungen werden nach ihrem Ei
 ngang berücksichtigt.\n\n\n
DTSTART:20130627T183000
DTEND:20130627T213000
LOCATION:BPW Davos Klosters\, Kaufmann Weine\, Davos Dorf
ORGANIZER:MAILTO:BPW Switzerland <davos@bpw.ch>
SUMMARY:Kleine Weinkunde für grosse Frauen
END:VEVENT
END:VCALENDAR
