BEGIN:VCALENDAR
VERSION:2.0
PRODID:-//BPW Switzerland//NONSGML kigkonsult.se iCalcreator 2.16.12//
METHOD:PUBLISH
X-MS-OLK-FORCEINSPECTOROPEN:TRUE
BEGIN:VEVENT
UID:20260424T131145CEST-279565C3Ve@BPW Switzerland
DTSTAMP:20260424T111145Z
DESCRIPTION:Einführungsreferat Dr. Annett Ehrentraut  \n\n\nSpielten Frauen
  in der Medizin schon früher eine tragende Rolle? Wurden Frauen grundsätzl
 ich als Ärztin zugelassen?\n\nDie Rolle der Ärztin früher und heute.\n\n 
 \nDas Referat zeigt den 'Werdegang' der Frauen im Reich der 'Halbgötter in
  weiss' auf  und stellt die heutige Situation der Ärztinnen dar.\n \n\n\nP
 rogramm\n\n19.00 Uhr\nApéro im Spital Davos U3 (Wegweiser folgen)\n\nAnsch
 liessend Referat mit Führung und Nachtessen im Restauarant Mezzo (bei schö
 nem Wetter auf der Terrasse).\n \n\nMenu\n\n\n\n\n\nFleisch:\nSteaks und P
 ouletbrüstli vom Grill\nSalatbuffet\nBaked Potato mit Sauercream\ndiverse 
 Barbeque-Beilagen\n\nVegi:\nTofuschnitzel und bunter Gemüsespiess\nSalatbu
 ffet\nBaked Potato mit Sauercream\ndiverse Barbeque-Beilagen\n\nDessert: f
 rische Erdbeeren mit Vanilleglacé\n\nFr. 35.00\n \n\nKosten\n\nDer Anlass 
 selber ist kostenlos. Essen und Getränke gehen zu Lasten der Teilnehmenden
  und werden direkt vor Ort in bar beglichen.\n \n\nWeg\n\nWir bilden Fahrg
 emeinschaften. Bitte bei der Anmeldung eintragen\, ob ein Mitfahrplatz gew
 ünscht wird.\n \n\nAnmeldung \nbis Montag\, 8. Juli 2013\n\nüber den Anmel
 dedoodle \nper Mail an Elsbeth Kluker\noder Telefon 079 749 25 27\n\n \n
DTSTART:20130710T190000
DTEND:20130710T220000
LOCATION:BPW Davos Klosters\, Spital Davos\, Cafeteria Mezzo
ORGANIZER:MAILTO:BPW Switzerland <davos@bpw.ch>
SUMMARY:Frauen in der Medizin
END:VEVENT
END:VCALENDAR
