BEGIN:VCALENDAR
VERSION:2.0
PRODID:-//BPW Switzerland//NONSGML kigkonsult.se iCalcreator 2.16.12//
METHOD:PUBLISH
X-MS-OLK-FORCEINSPECTOROPEN:TRUE
BEGIN:VEVENT
UID:20260422T133211CEST-5835lu1fhV@BPW Switzerland
DTSTAMP:20260422T113211Z
DESCRIPTION:Sommerhappening für BPW and Friends\nChristian Bolt gibt uns di
 e einmalige Gelegenheit ihn in seinem Atelier zu besuchen und den Spirit s
 eines Schaffens zu spüren.\n\nGibt es Up's und Down's bei der Entstehung e
 ines Kunstwerkes ? Weg einer Vision bis zur Vollendung eines Kunstwerkes? 
 Erfolg oder nicht Erfolg eines Werkes? Über all diese Fragen werden wir me
 hr wissen nach dem Besuch in seinem Atelier in Monbiel.\n\nDieses einmalig
 e Erlebnis sollte man sich nicht entgehen lassen!\n \nProgramm\n\n19.00 Uh
 r\nApéro und Führung im Atelier Christian Bolt\nAnschliessend Abendessen i
 m Restaurant Höhwald\, Klosters Monbiel\n \n\nMenu\n\nFilet von der Bachfo
 relle mit Spinat und Petersilienkartoffel\nVegi:\nFrische Bandnudel mit Pe
 tersilienpesto\, Pinienkerne\, Kirschtomaten und gehobelter Beelerknolle (
 sehr spezieller Käse)\n Fr. 28.00\n\nDessert:\nPanna cotta mit Himbeersauc
 e\nFr. 8.00\n \n\nKosten\n\nDer Anlass selber ist kostenlos. Essen und Get
 ränke gehen zu Lasten der Teilnehmenden und werden direkt vor Ort in bar b
 eglichen.\n \n\nWeg / Parkplatz\n\nWir bilden Fahrgemeinschaften. Bitte be
 i der Anmeldung eintragen\, ob ein Mitfahrplatz gewünscht wird. Bitte Park
 platz Monbiel benutzen (kurzer Fussmarsch zum Atelier). Die Plätze beim Re
 staurant sind sehr begrenzt und sind wenn möglich nicht zu benutzen.\n \n
 \nAnmeldung \nbis Montag\, 12. August 2013\n\nüber den Anmeldedoodle \nper
  Mail an Elsbeth Kluker\noder Telefon 079 749 25 27\n
DTSTART:20130814T190000
DTEND:20130814T223000
LOCATION:BPW Davos Klosters\, Atelier Bolt
ORGANIZER:MAILTO:BPW Switzerland <davos@bpw.ch>
SUMMARY:Atelierbesuch Christian Bolt\, Bildhauer und Maler
END:VEVENT
END:VCALENDAR
