BEGIN:VCALENDAR
VERSION:2.0
PRODID:-//BPW Switzerland//NONSGML kigkonsult.se iCalcreator 2.16.12//
METHOD:PUBLISH
X-MS-OLK-FORCEINSPECTOROPEN:TRUE
BEGIN:VEVENT
UID:20260422T133022CEST-8833H7dvNw@BPW Switzerland
DTSTAMP:20260422T113022Z
DESCRIPTION:\n\nReferentin Anouk Scherer\nSchauspielerin\, Stimm- und Sprec
 hchoaching\n\n\nAuthentisch\, präsent\, charismatisch: Nutzen Sie das Pote
 nzial Ihrer Ausstrahlung!\nAls Inhaberin des Unternehmens ANOUK SCHERER ST
 IMM- UND SPRECHCOACHING arbeitet Anouk Scherer als Trainerin und Coach in 
 der Schweiz und in Deutschland. Ebenso ist sie tätig als Dozentin\, Refere
 ntin und Beraterin. \n\nBesser präsentieren\, faszinieren\, nicht langweil
 en\, kann ich das auch?  Ist Charisma lernbar? Kann ich sprechen wie ein P
 rofi? Professionell auftreten als Führungsfähigkeit? Dies und vieles mehr 
 erfahren wir im Referat von Anouk Scherer.\n\nWillst du diese einmalige Ge
 legenheit nutzen und neue Erkenntnisse gewinnen? Dann melde dich über den 
 Anmeldedoodle an.\n\n\nProgramm\n\n\n19.00 Uhr\nHotel Grischa Davos Platz
 \nBeginn Referat und anschliessend Nachtessen im Restaurant Pulsa\n \n\nMe
 nu\n\n\n\n\n\nReis mit Gemüsewürfeln\, Broccoli mit Mandelbutter \nKalbscu
 rrygeschnetzeltes und Currysauce mit glasierten Früchten\n\noder\nReis mit
  Gemüsewürfeln\, Broccoli mit Mandelbutter \nGemüsefrikassee mit Currysauc
 e und glasierten Früchten\n\nDessert\nZweierlei Schokoladenmousse oder Kaf
 fee/Tee\n\nFr. 35.00\n\n \n\nKosten\n\nDer Anlass selber ist kostenlos. Es
 sen und Getränke gehen zu Lasten der Teilnehmenden und werden direkt vor O
 rt in bar beglichen.\n \n\nWeg\n\nWir bilden Fahrgemeinschaften. Bitte bei
  der Anmeldung eintragen\, ob ein Mitfahrplatz gewünscht wird.\n \n\nAnmel
 dung \nbis Montag\, 9. September 2013\n\nüber den Anmeldedoodle \nper Mail
  an Barbara Schneider\noder Telefon  079 596 98 15 \n\n\n\n \n
DTSTART:20130911T190000
DTEND:20130911T220000
LOCATION:BPW Davos Klosters\, Hotel Grischa\, Davos Platz
ORGANIZER:MAILTO:BPW Switzerland <davos@bpw.ch>
SUMMARY:Über das Potenzial der Ausstrahlung
END:VEVENT
END:VCALENDAR
