BEGIN:VCALENDAR
VERSION:2.0
PRODID:-//BPW Switzerland//NONSGML kigkonsult.se iCalcreator 2.16.12//
METHOD:PUBLISH
X-MS-OLK-FORCEINSPECTOROPEN:TRUE
BEGIN:VEVENT
UID:20260422T133145CEST-8761BHFEFL@BPW Switzerland
DTSTAMP:20260422T113145Z
DESCRIPTION:Sofagespräch\n \n\nProgramm\n\n18.45 Uhr\nKaffeKlatsch\, Davos 
 Platz\nSofagespräch und anschiessend Nachtessen\n\n\nMenu\n\nFleisch\n\nHa
 usgemachter Capuns mit Bergkäse und Zwiebeln gratiniert\n\nVegi\n\nHausgem
 achter Risotto an Weissweinsauce mit Waldpilzen und gebratenem Lauch\nFr. 
 30.00\n\nDessert\nFrische warme Waffeln mit Zimtäpfeln und Rotwein verfein
 ert\, Schlagrahm\nFr. 5.00\n \n\nKosten\n\nDer Anlass selber ist kostenlos
 . Essen und Getränke gehen zu Lasten der Teilnehmenden und werden direkt v
 or Ort in bar beglichen.\n \n\nWeg\n\nWir bilden Fahrgemeinschaften. Bitte
  bei der Anmeldung eintragen\, ob ein Mitfahrplatz gewünscht wird.\n \n\nA
 nmeldung \nbis Montag\, 21. Oktober 2013\n\nüber den Anmeldedoodle \nper M
 ail an Elsbeth Kluker\noder Telefon 079 749 25 27\n\n \n
DTSTART:20131023T190000
DTEND:20131023T220000
LOCATION:BPW Davos Klosters
ORGANIZER:MAILTO:BPW Switzerland <davos@bpw.ch>
SUMMARY:Sofagespräch: Sucht und Abhängigkeit - ein Frauenthema?
END:VEVENT
END:VCALENDAR
