BEGIN:VCALENDAR
VERSION:2.0
PRODID:-//BPW Switzerland//NONSGML kigkonsult.se iCalcreator 2.16.12//
METHOD:PUBLISH
X-MS-OLK-FORCEINSPECTOROPEN:TRUE
BEGIN:VEVENT
UID:20260422T125345CEST-7657UI7SUb@BPW Switzerland
DTSTAMP:20260422T105345Z
DESCRIPTION:\nEinführungsreferat Annemarie Meyer\, Vize-Direktorin DDK/Mark
 eting\n\nVor vier Jahren trat Annemarie Meyer die Stelle als Vize-Direktor
 in der Destination Davos Klosters an der Seite von CEO Reto Branschi an.\n
 Welcher Weg führte sie nach Davos? Machten sie die Stationen Saas Fee und 
 St. Moritz hungrig auf mehr? Oder waren ihre Engagements bei der FIFA und 
 im UBS-Sportsponsoring ausschlaggebend für die Rückkehr zum Tourismus? Fre
 uen wir uns auf ein spannendes Referat mit Einblick in die Organisation vo
 n internationalen Grossanlässen und natürlich den dazugehörenden Erlebnisb
 erichten.\n\n\nProgramm\n\n\n19.00 Uhr\nTourismuszentrum\, Talstrasse 41\,
  Davos Platz\n19.15 Uhr\nEinführungsreferat mit anschliessender Stadionfüh
 rung\nAnschliessend Abendessen im Restaurant Time-out\n\n\nMenu\n\n\n\nBun
 ter Blattsalat mit hausgemachter French-Dressing\nAuswahl an verschiedenen
  Flammkuchen\n\nLauwarmes Schokoladeküchlein mit Zitronensorbet\n\nFr. 30.
 00 inkl. Dessert\nFr. 21.50 ohne Dessert\n \n\nKosten\n\nDer Anlass selber
  ist kostenlos. Essen und Getränke gehen zu Lasten der Teilnehmenden und w
 erden direkt vor Ort in bar beglichen.\n \n\nWeg\n\nWir bilden Fahrgemeins
 chaften. Bitte bei der Anmeldung eintragen\, ob ein Mitfahrplatz gewünscht
  wird.\n \n\nAnmeldung \nbis Montag\, 10. November 2013\n\nüber den Anmeld
 edoodle \nper Mail an Elsbeth Kluker\noder Telefon 079 749 25 27\n\n \n
DTSTART:20131113T190000
DTEND:20131113T220000
LOCATION:BPW Davos Klosters
ORGANIZER:MAILTO:BPW Switzerland <davos@bpw.ch>
SUMMARY:Herausforderungen - vom Oberaargau nach Davos
END:VEVENT
END:VCALENDAR
