BEGIN:VCALENDAR
VERSION:2.0
PRODID:-//BPW Switzerland//NONSGML kigkonsult.se iCalcreator 2.16.12//
METHOD:PUBLISH
X-MS-OLK-FORCEINSPECTOROPEN:TRUE
BEGIN:VEVENT
UID:20260422T125308CEST-07687Wk14E@BPW Switzerland
DTSTAMP:20260422T105308Z
DESCRIPTION:\nProgramm\n\n19.00 Uhr\nApéro und Abendessen Restaurant Lengma
 tta\n \n\nMenu\n\n\n\nGemischter Salat\n\nFleisch\nKalbssteakbraten an Ros
 marinjus\nKartoffelgratin\nGemüsebukett\nCHF 42.50\n\nVegi\nKürbisrisotto 
 mit Gemüsebeilage\nCHF 32.50\n\nDessert\nWarme Rotweinzwetschgen mit Zimte
 is\nCHF 7.50\n \n\nKosten\n\nDer Anlass selber ist kostenlos. Essen und Ge
 tränke gehen zu Lasten der Teilnehmenden und werden direkt vor Ort in bar 
 beglichen.\n \n\nWeg\n\nWir bilden Fahrgemeinschaften. Bitte bei der Anmel
 dung eintragen\, ob ein Mitfahrplatz gewünscht wird.\n \n\nAnmeldung \nbis
  Montag\, 9. Dezember 2013\n\nüber den Anmeldedoodle \nper Mail an Elsbeth
  Kluker\noder Telefon 079 749 25 27\n
DTSTART:20131211T190000
DTEND:20131211T220000
LOCATION:BPW Davos Klosters\, Rest. Lengmatta\, Frauenkirch
ORGANIZER:MAILTO:BPW Switzerland <davos@bpw.ch>
SUMMARY:I'm Dreaming of a White Christmas
END:VEVENT
END:VCALENDAR
