BEGIN:VCALENDAR
VERSION:2.0
PRODID:-//BPW Switzerland//NONSGML kigkonsult.se iCalcreator 2.16.12//
METHOD:PUBLISH
X-MS-OLK-FORCEINSPECTOROPEN:TRUE
BEGIN:VEVENT
UID:20260422T112758CEST-1417vUKM2v@BPW Switzerland
DTSTAMP:20260422T092758Z
DESCRIPTION:Kooperationspartnerschaft von BPW Rheintal\n\n\nSehr geehrte Da
 men und Herren\n\nEs freut uns sehr\, Ihnen schon heute das Datum des sech
 sten Businesstags mitteilen zu dürfen.\n\nAm Dienstag\, 21. Mai 2013\, geh
 t in Vaduz die besondere Wirtschaftsplattform für Frauen im Dreiländereck 
 Liechtenstein\, Schweiz und Vorarlberg über die Bühne. Seit ihrer Lancieru
 ng ist sie alljährlicher Treffpunkt für Kaderfrauen aus Wirtschaft\, Polit
 ik und Verbänden und interessierten Frauen und Männer.\n\nAuch in diesem J
 ahr erwartet Sie wieder ein erstklassiges Programm. Durch den Anlass begle
 itet Sie wieder die bekannte Schweizer Moderatorin Mona Vetsch. Das Progra
 mm des 6. Businesstags wird in Kürze im Detail präsentiert.\n\nEin absolut
 es Highlight dürfen wir Ihnen aber bereits heute verraten:\n\nTop-Manageri
 n Barbara Kux wird als eine der Hauptreferentinnen am sechsten Businesstag
  auftreten!\nBarbara Kux war bei McKinsey\, ABB und Nestlé und ist jetzt V
 izepräsidentin bei Ford Europe: sie gilt als die erfolgreichste Schweizer 
 Managerin. Das US-Magazin Fortune setzte Barbara Kux\, aktuell noch Vorsta
 ndsmitglied des DAX-Konzerns Siemens in Deutschland\, vor einigen Jahren s
 ogar auf den 13. Platz der internationalen Rangliste der wichtigsten Wirts
 chaftsfrauen weltweit.\n\n\n\nSenden Sie uns ein Mail an info@businesstag.
 li und wir reservieren für Sie gerne bereits heute ein Ticket.\n\nWir freu
 en uns\, wenn Sie wieder unser Gast am Businesstag 2013 sind!\n\nMit beste
 n Grüssen\,\nIhre Nina Schwarzkopf-Hilti\, Judith Bärfuss und Markus Goop
 \n\nVerein Businesstag\nWirtschaftsforum für Frauen im Rheintal\nWuhrstras
 se 7\nFL-9490 Vaduz\nTel +423 231 18 28\nFax +423 231 18 29\nE-Mail: info@
 businesstag.li\nWeb: www.businesstag.li\n\n
DTSTART:20130521T160000
DTEND:20130521T200000
LOCATION:Vaduz
ORGANIZER:MAILTO:BPW Switzerland <davos@bpw.ch>
SUMMARY:Businesstag 2013 in Vaduz
END:VEVENT
END:VCALENDAR
