BEGIN:VCALENDAR
VERSION:2.0
PRODID:-//BPW Switzerland//NONSGML kigkonsult.se iCalcreator 2.16.12//
METHOD:PUBLISH
X-MS-OLK-FORCEINSPECTOROPEN:TRUE
BEGIN:VEVENT
UID:20260422T112634CEST-9247thX1wX@BPW Switzerland
DTSTAMP:20260422T092634Z
DESCRIPTION:Informal Get-Together in English\n\n\n\n\nNo registration requi
 red - just drop in! Bring your partner/friend with you and enjoy this Afte
 rWork-Special!\n \nMeeting\nThursday\, April 18\, 2013\, 7-8 pm\n(every 1s
 t and 3rd Thursday a month)\n\nGrischa Hotel\, Davos Platz\nPulsa Bar & Lo
 unge or Regulars' Table Restaurant Pulsa
DTSTART:20130418T190000
DTEND:20130418T200000
LOCATION:BPW Davos Klosters\, Grischa Bar&Lounge
ORGANIZER:MAILTO:BPW Switzerland <davos@bpw.ch>
SUMMARY:Afterwork Chat
END:VEVENT
END:VCALENDAR
