BEGIN:VCALENDAR
VERSION:2.0
PRODID:-//BPW Switzerland//NONSGML kigkonsult.se iCalcreator 2.16.12//
METHOD:PUBLISH
X-MS-OLK-FORCEINSPECTOROPEN:TRUE
BEGIN:VEVENT
UID:20260422T133318CEST-7613lzIrj9@BPW Switzerland
DTSTAMP:20260422T113318Z
DESCRIPTION:Der BPW Club Davos Klosters freut sich sehr\, die 1. BPW Golf T
 rophy & Academy auszuschreiben. Nach der Herbstkonferenz mit dem Gipfeltre
 ffen vom vergangenen Oktober in Davos knüpfen wir mit einem sportlichen Ev
 ent an das Motto Fit for Business an.\n\nAm Freitag\, 30. August 2013\, wi
 rd die 1. BPW Golf Trophy & Academy im Golf Club Davos ausgetragen. Den Ab
 end verbringen wir gemeinsam bei einem Apéro und einem feinen Nachtessen i
 m rustikalen Golfclub Restaurant. Wir freuen uns jetzt schon auf einen spo
 rtlich-gemütlichen Networkingabend unter BPW.\n\nEs würde uns sehr freuen\
 , viele Golf begeisterte BPW und solche\, die es werden wollen\, in Davos 
 begrüssen zu dürfen!\n\nMit sportlichem Gruss\nIhr Gastgeberclub BPW Davos
  Klosters\n\nDie Organisatorinnen:\nBarbara Schneider & Corinne Gut Klucke
 r\, BPW Davos Klosters\nJudith Baumberger\, BPW Club Zürich\n \nAnmeldung 
 bis 15. August 2013 \nüber das Informations- und Anmeldeformular im Anhang
 \n
DTSTART:20130830T093000
DTEND:20130830T160000
LOCATION:BPW Davos Klosters und Golf Club Davos
ORGANIZER:MAILTO:BPW Switzerland <davos@bpw.ch>
SUMMARY:1. BPW Golf Trophy & Academy
END:VEVENT
END:VCALENDAR
