BEGIN:VCALENDAR
VERSION:2.0
PRODID:-//BPW Switzerland//NONSGML kigkonsult.se iCalcreator 2.16.12//
METHOD:PUBLISH
X-MS-OLK-FORCEINSPECTOROPEN:TRUE
BEGIN:VEVENT
UID:20260422T113452CEST-9153dRODux@BPW Switzerland
DTSTAMP:20260422T093452Z
DESCRIPTION:\n\nGastgeberin: Gabi Sievi\nAnzahl Gäste: 3\nOrt: Zürich\nGabi
  bietet dazu die Möglichkeit\, bei ihr zu übernachten.\nDen definitiv Ange
 meldeten wird die genaue Adresse bekannt gegeben.\ngemäss den Bedingungen 
 von dinner@home
DTSTART:20130607T183000
DTEND:20130607T220000
LOCATION:BPW Davos Klosters\, Gabi Sievi\, Zürich
ORGANIZER:MAILTO:BPW Switzerland <davos@bpw.ch>
SUMMARY:dinner@home - Viva Italia!
END:VEVENT
END:VCALENDAR
