BEGIN:VCALENDAR
VERSION:2.0
PRODID:-//BPW Switzerland//NONSGML kigkonsult.se iCalcreator 2.16.12//
METHOD:PUBLISH
X-MS-OLK-FORCEINSPECTOROPEN:TRUE
BEGIN:VEVENT
UID:20260422T114518CEST-22074eVWKu@BPW Switzerland
DTSTAMP:20260422T094518Z
DESCRIPTION:Sehr geehrte Damen und Herren\nLiebe Mitglieder und BPW Freundi
 nnen und Freunde\n\nDie Mitglieder des BPW CLUB TICINO\, zusammen mit dem 
 Vorstand und der neu gewählten Präsidentin\, Marialuisa Parodi\, freuen si
 ch\, Sie zur Feier des 30. Geburtstages des BPW CLUB TICINO einzuladen.\n
 \nSamstag 11. Mai 2013\nHotel De La Paix\, Lugano\n19.00 Uhr\n\n\nFür  Inf
 ormationen betreffend  des Programms weisen wir Sie  auf unsere Webseite h
 in: \nwww.bpw-ticino.ch/gala \n\nGerne erwarten wir Sie\, um dieses wichti
 ge Ziel mit uns zu feiern !\n\nBPW CLUB TESSIN\n\n\n\n\n\n\n\nDER CLUB BPW
  TICINO FEIERT SEINEN 30. GEBURTSTAG\nWIR LADEN SIE EIN DIESES WICHTIGE ZI
 EL MIT UNS ZU FEIERN \nMIT EINEM GALA ABEND\nSAMSTAG 11. MAI 2013 -  19.00
  UHR\nHOTEL DE LA PAIX – Via Cattori 18 - Lugano\n \nProgramm\n\n\n19.00 U
 hr		Apéro “Ristorante Neptune”\n20.00 Uhr		Willkommensansprache\n20.30 Uhr 		Abe
 ndessen und Unterhaltung “Sala Spazio” 1 e 2\n\n\n			Theaterspktakel von und 
 mit Ledwina Costantini  (www.operaretablo.ch)\n			Musik und Tanz mit dem  “Ma
 rtha j quartet” (www.marthaj.it)\n\n\n		\nDresscode\n\nFestlich\n\n\nPreis\n
 \nCHF 190.00 (EUR 160.00)\n\n\nEs freut uns mitzuteilen\, dass im Preis  e
 in Besuch  bei dem  \nWeinproduzenten Cantine Guido Brivio  in Mendrisio  
 (www.brivio.ch)  \ninbegriffen ist.  Der Besuch ist am Samstag 11. Mai\, 2
 013  \n\nmit zwei Optionen:\n\n\n    erster Besuch: von 10.00 bis  12.00 U
 hr\n    \n     zweiter Besuch: von 15.00 bis 17.00  Uhr\n    \n    \n\nMax
 imale Beteiligung: 30 Personen pro Visite  (Priorität nach Reihenfolge der
  Einschreibungen)\n\n\nEinschreibung  \n\n für  den Gala Abend und  den Be
 such bei den Cantine Guido Brivio  (bitte Uhrzeit angeben) bitte unter bpw
 30gala@gmail.com. \n\nEinschreibungstermin: 15 . April 2013 \n \nDie Einsc
 hreibung ist gültig mit der Einzahlung der Quota innert dem 30. April\, 20
 13  wie folgt:\n\nin Schweizer Franken  (CHF 190.00):\nBusiness Profession
 al Women - BPW  Club Ticino\nIBAN : CH20  0076 4434 6481 C000C\nBanca Stat
 o\nClearing 00764\nBIC : BSCTCH22\n\nin Euro (EURO 160.00):\nBusiness Prof
 essional Women - BPW  Club Ticino\nIBAN : CH95 0076 4434 6481 P000E\nBanca
  Stato\nClearing 00764\nBIC : BSCTCH22\n\nWir bitten Sie den gegebenen Ban
 kangaben genau  zu folgen\, um  Fehlleitungen zu vermeiden.\n \nAbsage  (z
 usammenhängend mit den Konditionen des  Hotel De La Paix) \nBelastung bei 
  Absage :\n\n\n    bis 60 Tage vor dem Ereignis: 						10% des Preises\n    \n  
   von  60 bis 7 Tage vor dem Ereignis: 					30% des Preises \n    \n    von 7 T
 age  bis 48 Stdn vor dem Ereignis: 				50% des Preises\n    \n    innert 48 St
 dn vor dem Ereignis:					100% des Preises.\n\n\n \nUEBERNACHTUNG\n\nFür Ueberna
 chtung oder  für ein paar Tage in unserer wunderschönen  Region\, haben wi
 r folgende Konventionen vereinbart  und bitte Sie\, mit  den Hotels direkt
 en Kontakt auf zu nehmen:\n\n\nHotel Serpiano  (www.serpiano.ch) \nEZ Comf
 ort\, CHF 119.00 inkl. Frühstück\, CHF 2.00 Kurtaxe  pro Person pro Nacht.
 \nDZ Comfort\, CHF 178.00 inkl. Früstück\, CHF 2.00  Kurtaxe pro Person pr
 o Nacht.\n \nHotel De La Paix  (www.delapaix-ch)\nBusiness/Twin Superior -
 EZ CHF 195.00-205.00 (je nach Ankuftsdatum)\, inkl. Früstück\, CHF 4.70 Ku
 rtaxe pro Person pro Nacht.\nTwin Superior- DZ: CHF 270.00\, inkl. Früstüc
 k\, CHF 4.70 Kurtaxe pro Person pro Nacht.\nFür weitere Hotels und Informa
 tionen über unsere Region bitte schauen Sie unter: www.ticino.ch \n \nEin 
 spezielles und grosses Dankeschön an unsere Sponsoren: \n\n    Soave Asset
  Management (www.soaveam.com)\n    Guido Brivio (www.brivio.ch)\n    Hotel
  Serpiano (www.serpiano.ch)\n    Forever  (www.foreverliving.com)\n    Sol
 utions for Sustainability (www.sustain.ch)\n    Progetto Stampa  (www.prog
 ettostampa.ch)\n\nFür weitere Informationen :\n\n    schriftlich unter: in
 fo@bpw-ticino.ch \n\noder per Telephon an:\n\n    Marialuisa Parodi\, Pres
 ident (italiano e inglese): 076 5757931\n    Cornelia Riep\, Immediate Pas
 t President (Französisch und Deutsch) : + 41 (0) 79 4098366\n\nGerne erwar
 ten wir Ihre Einschreibung  und hoffen Sie am 11. Mai 2013 bei uns begrüss
 en zu dürfen.
DTSTART:20130511T190000
DTEND:20130511T230000
LOCATION:BPW Ticino\, Lugano\, Hotel de la Paix
ORGANIZER:MAILTO:BPW Switzerland <davos@bpw.ch>
SUMMARY:30 Jahre BPW Ticino
END:VEVENT
END:VCALENDAR
