BEGIN:VCALENDAR
VERSION:2.0
PRODID:-//BPW Switzerland//NONSGML kigkonsult.se iCalcreator 2.16.12//
METHOD:PUBLISH
X-MS-OLK-FORCEINSPECTOROPEN:TRUE
BEGIN:VEVENT
UID:20260420T155034CEST-5920esMbAG@BPW Switzerland
DTSTAMP:20260420T135034Z
DESCRIPTION:\n\nJolanda Spirig liest aus ihrem Buch\n\nDie Schürzennäherinn
 en. Die Fabrikantin und die Kriessner ‚Mädchen’\n\nDie Autorin\, die vor K
 urzem mit dem ersten Rheintaler Kulturpreis ausgezeichnet worden ist\, hat
  mit ihrem neuesten Buch\, ein Kapitel regionaler Textilgeschichte aufgegr
 iffen und neu erzählt. «Spricht man heute von Akris\, denkt man an Glamour
  und unverwechselbaren Purismus. Doch es ist kaum vorstellbar\, wie einst 
 blutjunge Landmädchen in einer kalten Stube an ihren Maschinen hockten und
  Schürzen für Akris nähten»\, resümierte der «Tages-Anzeiger».\n\nDas Mode
 label\nDas bekannte Modelabel\, dessen Ursprünge Jolanda Spirig beschreibt
 \, wurde 1922 in St. Gallen gegründet – als bescheidenes Kleinunternehmen 
 einer tatkräftigen Frau\, die nicht nur den Arbeitsmarkt ihrer Heimatstadt
 \, sondern auch das Leben vieler Frauen aus der Region nachhaltig beeinflu
 sste. Alice Kriemler-Schoch setzte schon damals auf Frauenvernetzung: Als 
 langjähriges BPW-Mitglied versäumte sie kaum ein Treffen der Berufs- und G
 eschäftsfrauen.\n\n\nEine längst vergangene Welt\nZwischen 1946 und 1966 b
 etrieb Akris eine kleine Schürzennäherei in Kriessern. Spirig hat neun ehe
 malige Näherinnen porträtiert und gibt damit Einblick in eine längst verga
 ngene Welt\, geprägt durch Kinderarbeit\, Marienlieder\, Armut und Autorit
 ätsgläubigkeit. Die Mädchen hüteten Kühe und Kinder\, stachen Äcker um und
  ernteten Erbsen. Als junge Frauen nähten sie Schürzen. Den Verdienst gabe
 n sie zu Hause ab.\n \nDokumentarfilm\nDas gemeinsame Nähen im «Büdeli» ha
 t die Kriessnerinnen nachhaltig geprägt. Sie nannten sich «Kriemlera» – na
 ch ihrer Chefin Alice Kriemler-Schoch\, die 14 Tagebücher hinterlassen hat
 . Im Anschluss an die  Lesung ist ein Dokumentarfilm über die Kriessner Nä
 herin Rösli Lutz-Weder zu sehen.\n \nProgramm\n18.30 Uhr Vorspeise\n18.45 
 Uhr Lesung und Dokumentarfilm\n20.00 Uhr Hauptspeise\n \nMenüs\nFisch  CHF
  38.00\nSpargeln an einer Vinaigrette und knackigem Salat\nEglifilets an Z
 itronenbutter mit Salzkartoffeln und Gemüse\n\nVegetarisch  CHF 30.00\nSpa
 rgeln an einer Vinaigrette und knackigem Salat\nSpargelrisotto\n \n\nKoste
 n\n\nDer Anlass selber ist kostenlos. Essen und Getränke gehen zu Lasten d
 er Teilnehmenden und werden direkt vor Ort in bar beglichen.\n \n\nWeg\n\n
 Wir bilden Fahrgemeinschaften. Bitte bei der Anmeldung eintragen\, ob ein 
 Mitfahrplatz gewünscht wird oder angeboten werden kann (Details unter Komm
 entar).\n \n\nAnmeldung bis Mittwoch\, 8. Mai 2013\n\nüber den Anmeldedood
 le \nper Mail an Elsbeth Kluker\noder Telefon 079 749 25 27\n\nAnmeldedood
 le \n
DTSTART:20130515T183000
DTEND:20130515T220000
LOCATION:BPW Rheintal\, Rest. Traube\, Buchs
ORGANIZER:MAILTO:BPW Switzerland <davos@bpw.ch>
SUMMARY:Die Schürzennäherinnen - Der Ursprung des Modelabels Akris
END:VEVENT
END:VCALENDAR
