BEGIN:VCALENDAR
VERSION:2.0
PRODID:-//BPW Switzerland//NONSGML kigkonsult.se iCalcreator 2.16.12//
METHOD:PUBLISH
X-MS-OLK-FORCEINSPECTOROPEN:TRUE
BEGIN:VEVENT
UID:20260422T115213CEST-84277VbgCw@BPW Switzerland
DTSTAMP:20260422T095213Z
DESCRIPTION:\n\nGastgeberin: Sema Miller\nAnzahl Gäste: 9\nOrt: Davos\nDen 
 definitiv Angemeldeten wird die genaue Adresse bekannt gegeben.\ngemäss de
 n Bedingungen von dinner@home
DTSTART:20130530T190000
DTEND:20130530T220000
LOCATION:BPW Davos Klosters\, Sema Miller
ORGANIZER:MAILTO:BPW Switzerland <davos@bpw.ch>
SUMMARY:dinner@home - Orientalisch
END:VEVENT
END:VCALENDAR
