BEGIN:VCALENDAR
VERSION:2.0
PRODID:-//BPW Switzerland//NONSGML kigkonsult.se iCalcreator 2.16.12//
METHOD:PUBLISH
X-MS-OLK-FORCEINSPECTOROPEN:TRUE
BEGIN:VEVENT
UID:20260422T132303CEST-6569U5nVAc@BPW Switzerland
DTSTAMP:20260422T112303Z
DESCRIPTION:Informal Get-Together in English\n\n\n\n\nNo registration requi
 red - just drop in and join us! \nBring your partner/friend with you and e
 njoy this AfterWork-Special!\n \nMeeting\nevery 1st and 3rd Thursday from 
 7 - 8 pm\n\nNEW PLACE TO MEET Hilton Garden Inn\, Davos Platz
DTSTART:20131017T190000
DTEND:20131017T200000
LOCATION:BPW Davos Klosters\, Hilton Garden Inn\, Davos Platz
ORGANIZER:MAILTO:BPW Switzerland <davos@bpw.ch>
SUMMARY:Afterwork Chat
END:VEVENT
END:VCALENDAR
