BEGIN:VCALENDAR
VERSION:2.0
PRODID:-//BPW Switzerland//NONSGML kigkonsult.se iCalcreator 2.16.12//
METHOD:PUBLISH
X-MS-OLK-FORCEINSPECTOROPEN:TRUE
BEGIN:VEVENT
UID:20260422T133303CEST-1276iZlmva@BPW Switzerland
DTSTAMP:20260422T113303Z
DESCRIPTION:Im Jahr 1987 liefen die Vorbereitungen für die Gründung des BPW
  Club  Chur\, und 1988 war's dann soweit - der BPW Club Chur war geboren. 
 Dieses  Jahr kann der Club sein 25-Jahr Jubiläum feiern und freut sich auf
  ein  attraktives Programm und einen angeregten Abend mit vielen BPW.\n\n
 \n\nBesonderer Gast an diesem Anlass ist unsere Bundesrätin Eveline  Widme
 r-Schlumpf. \n\n\n\nSandra Copeland\, Präsidentin BPW Club Chur\, lädt uns
  ein:\n \nLiebe BPW\n \nWie anfangs Mai bereits angekündigt\, feiert der B
 PW Club Chur am 13. September 2013 sein 25-jähriges Bestehen. Es würde uns
  ausserordentlich freuen\, wenn wir euch - selbstverständlich mit Begleitu
 ng/Partner - in Chur begrüssen dürften.\n \nWir sind vor einiger Zeit dazu
  übergegangen\, die Anmeldungen via  Doodle abzuwickeln. Dies gibt eine gu
 te und direkte Übersicht. Darf ich  euch bitten\, eure Anmeldungen via fol
 genden Link vorzunehmen (bitte auch  diejenigen\, welche sich im Mai berei
 ts bei mir per Mail gemeldet  hatten)?\n \nhttp://www.doodle.com/tkm46yw4e
 niwt59n\n \nHier noch ein paarZusatzangaben für die Doodle-Erfassung:\nPar
 tner: Bitte für deinen Partner eine Zusatzzeile erfassen (wir haben dazu 2
  Beispiele zur Orientierung erfasst)\nClub-Zugehörigkeit: für unsere Info 
 bitte gleich eure Club-Zugehörigkeit beim Namen erfassen (gleiches Feld)\n
  \nFalls ihr ein Mitbringsel für den jubilierenden Club ins Auge fasst\, w
 ürden wir gerne einen Wunsch anbringen:\nWir möchten gerne mit einem schön
 en Geldbetrag einen  Beitrag zum einem Schulprojekt von Peter Baumgartner\
 , Gründer und Leiter  der Schule und langjähriger\, ehemaliger Afrikakorre
 spondent des  Tages-Anzeigers und Freund von Ruedi Küng\, ebenfalls bekann
 ter  Korrespondent bei SRF leisten (siehe:  http://www.gentiananairobi.org
 /). Es wäre toll\, wenn ihr hier einen Zustupf machen würdet. \n \nNun fre
 uen wir uns auf eure Anmeldungen und auf einen stimmungsvollen Anlass am 1
 3. September.\n \nHerzliche Grüsse\nSandra\n \nSandra Copeland\nPräsidenti
 n BPW Chur \n\nEinladungskarte mit Informationen zu Zeit und Ort\n 
DTSTART:20130913T183000
DTEND:20130913T223000
LOCATION:BPW Chur\, SSTH Passugg
ORGANIZER:MAILTO:BPW Switzerland <davos@bpw.ch>
SUMMARY:25 Jahre BPW Chur
END:VEVENT
END:VCALENDAR
