BEGIN:VCALENDAR
VERSION:2.0
PRODID:-//BPW Switzerland//NONSGML kigkonsult.se iCalcreator 2.16.12//
METHOD:PUBLISH
X-MS-OLK-FORCEINSPECTOROPEN:TRUE
BEGIN:VEVENT
UID:20260422T133129CEST-4350ulgVIW@BPW Switzerland
DTSTAMP:20260422T113129Z
DESCRIPTION:\n\nMittwoch\, 24. Juli 2013\, 19.30 Uhr\nGastgeberin: François
 e Stahel\nAnzahl Gäste: 5\nOrt: Klosters\nAnmeldungen bis Montag\, 22. Jul
 i 2013\nDen definitiv Angemeldeten wird die genaue Adresse bekannt gegeben
 .\ngemäss den Bedingungen von dinner@home
DTSTART:20130724T193000
DTEND:20130724T213000
LOCATION:BPW Davos Klosters\, Françoise Stahel\, Klosters
ORGANIZER:MAILTO:BPW Switzerland <davos@bpw.ch>
SUMMARY:dinner@home - Klassisch französisch
END:VEVENT
END:VCALENDAR
