BEGIN:VCALENDAR
VERSION:2.0
PRODID:-//BPW Switzerland//NONSGML kigkonsult.se iCalcreator 2.16.12//
METHOD:PUBLISH
X-MS-OLK-FORCEINSPECTOROPEN:TRUE
BEGIN:VEVENT
UID:20260422T133302CEST-8253VCVBCI@BPW Switzerland
DTSTAMP:20260422T113302Z
DESCRIPTION:\n\nFreitag\, 13. September 2013\, 19.00 Uhr\nGastgeberin: Madl
 aina Fausch\nAnzahl Gäste: 6\nOrt: Seewis Dorf\nAnmeldungen bis Mittwoch\,
  11. September 2013\nDen definitiv Angemeldeten wird die genaue Adresse be
 kannt gegeben.\ngemäss den Bedingungen von dinner@home
DTSTART:20130913T190000
DTEND:20130913T230000
LOCATION:Seewis Dorf\, Madlaina Fausch
ORGANIZER:MAILTO:BPW Switzerland <davos@bpw.ch>
SUMMARY:dinner@home 'Wild'
END:VEVENT
END:VCALENDAR
