BEGIN:VCALENDAR
VERSION:2.0
PRODID:-//BPW Switzerland//NONSGML kigkonsult.se iCalcreator 2.16.12//
METHOD:PUBLISH
X-MS-OLK-FORCEINSPECTOROPEN:TRUE
BEGIN:VEVENT
UID:20260422T181718CEST-1531iHUFVt@BPW Switzerland
DTSTAMP:20260422T161718Z
DESCRIPTION:\nFreitag\, 1. November 2013\, 19.00 Uhr\nGastgeberin: Martina 
 Walsoe\nAnzahl Gäste: 4\nOrt: Davos Platz\nAnmeldungen bis Montag. 28. Okt
 ober 2013\nDen definitiv Angemeldeten wird die genaue Adresse bekannt gege
 ben.\ngemäss den Bedingungen von dinner@home
DTSTART:20131101T190000
DTEND:20131101T223000
LOCATION:Martina Walsoe\, Davos Platz
ORGANIZER:MAILTO:BPW Switzerland <davos@bpw.ch>
SUMMARY:Dinner@home Dänisch
END:VEVENT
END:VCALENDAR
