BEGIN:VCALENDAR
VERSION:2.0
PRODID:-//BPW Switzerland//NONSGML kigkonsult.se iCalcreator 2.16.12//
METHOD:PUBLISH
X-MS-OLK-FORCEINSPECTOROPEN:TRUE
BEGIN:VEVENT
UID:20260422T133145CEST-6029eGIixg@BPW Switzerland
DTSTAMP:20260422T113145Z
DESCRIPTION:\nBettina Plattner-Gerber\, BPW Engiadina Immediate Past Presid
 ent\, ist Co-Autorin des Buches\n\nWenn Paare Unternehmen führen - Ein Han
 dbuch\nDas Buch erscheint am 2. September in Deutschland\, Österreich und 
 in der Schweiz im Buchhandel. Pressetext zum Buch\n\nVernissage\nMontag\, 
 30. September 2013\, 19.00 Uhr\nGKB-Auditorium\, Engadinstrasse 25\, 7000 
 Chur\nZu dem Anlass sind alle herzlich eingeladen (s. Flyer).\nRückmeldung
  bis zum 26. September 2013 per Email an: bettina@plattnerundplattner.ch\n
 \nAuf dem Podium:\n\n    Bettina Plattner-Gerber\, Autorin und BPW\n    Li
 anne Fravi\, Autorin\n    Alois Vinzens\, CEO GKB und Experte im Buch\n   
  Ursula und Beat Sommer (Lyceum Alpinum Zuoz)\, Interviewpartner im Buch\n
     Moderation: Hugo Bigi\n\n\n\nCo-Autorin Bettina Plattner\, BPW Engiadi
 na Immediate Past President
DTSTART:20130930T190000
DTEND:20130930T200000
LOCATION:GKB Auditorium\, Chur
ORGANIZER:MAILTO:BPW Switzerland <davos@bpw.ch>
SUMMARY:Einladung zur Vernissage
END:VEVENT
END:VCALENDAR
