BEGIN:VCALENDAR
VERSION:2.0
PRODID:-//BPW Switzerland//NONSGML kigkonsult.se iCalcreator 2.16.12//
METHOD:PUBLISH
X-MS-OLK-FORCEINSPECTOROPEN:TRUE
BEGIN:VEVENT
UID:20260422T133156CEST-0979TdN57V@BPW Switzerland
DTSTAMP:20260422T113156Z
DESCRIPTION:\nErste am Seil. Pionierinnen in Fels und Eis\nDie Autorinnen C
 aroline Fink und Karin Steinbach laden herzlich zur Präsentation des Buche
 s 'Erste am Seil. Pionierinnen in Fels und Eis' ein und zeigen einen Film 
 zum Thema 'Frauenbergsteigen in den letzten zweihundert Jahren'. Die Autor
 innen freuen sich auf anregende Gespräche mit den Vernissagebesuchern.  \n
 \n\nProgramm\n18.30 Uhr \nApéro im Salewa Mountain Shop\, Promenade 63\, 7
 270 Davos Platz\n\n19.00 Uhr\nBeginn Buchpräsentation\n\nDer Eintritt ist 
 frei\, Anmeldung nicht erforderlich\n \n
DTSTART:20131016T183000
DTEND:20131016T210000
LOCATION:Salewa Shop\, Promenade 63\, Davos Platz
ORGANIZER:MAILTO:BPW Switzerland <davos@bpw.ch>
SUMMARY:Einladung Buchvernissage
END:VEVENT
END:VCALENDAR
