BEGIN:VCALENDAR
VERSION:2.0
PRODID:-//BPW Switzerland//NONSGML kigkonsult.se iCalcreator 2.16.12//
METHOD:PUBLISH
X-MS-OLK-FORCEINSPECTOROPEN:TRUE
BEGIN:VEVENT
UID:20260422T133129CEST-7419ih2Mjt@BPW Switzerland
DTSTAMP:20260422T113129Z
DESCRIPTION: \nStart des 1. Erfolgsteams von BPW Davos Klosters\nMittwoch\,
  9. Oktober 2013\, 19.00 bis max. 21.00 Uhr\nHotel Bünda\, Davos Dorf\nKon
 takt für Fragen und Anmeldung: Heidi Trepp\n\n\n \nWas ist ein Erfolgsteam
 ?\n\nEigentlich wollten wir ja schon lange ...\n\n	eine neue Stelle suchen
 \n	eine eigene Homepage erstellen\n	eine Fortbilung starten\n	oder ein paar ü
 berflüssige Pfunde loswerden ...\n\nAber eben - da ist irgendwie nie genug
  Zeit\, Kraft oder Motivation\, um das Projekt in Angriff zu nehmen.\n\nEi
 n Erfolgsteam ist ein Team\, in dem sich vier bis sechs Frauen über mehrer
 e Monate gegenseitig dabei unterstützen\, ihre individuellen Ziele zu erre
 ichen. In diesem Erfolgsteam arbeiten wir nach klaren Regeln und kommen da
 mit unseren Zielen kontinuierlich näher.\n \nWelche Vorteile bietet ein Er
 folgsteam?\n\n\n	Wir erreichen mit Hilfe der Teammitglieder unser persönlic
 hes Ziel leichter.\n	Wir profitieren von der Erfahrung und dem Wissen ander
 er.\n	Wir kommen schneller voran durch den strukturierten Ablauf und die ef
 fizienten Gespräche.\n	Wir lernen andere Clubmitglieder besser kennen\, das
  bedeutet Horizonterweiterung und effektives Netzwerken!\n\n\nVoraussetzun
 gen\n\n\n	Die Teilnehmerinnen sollten die Bereitschaft mitbringen\, etwas N
 eues zu lernen und von anderen Rat anzunehmen.\n	Regelmässige Teilnahme an 
 den Sitzungen sichert für alle den Erfolg.\n	Offenheit nach innen und Versc
 hwiegenheit nach aussen sind von grosser Bedeutung.\n\nWeitere Information
 en\n 
DTSTART:20131009T190000
DTEND:20131009T210000
LOCATION:BPW Davos Klosters\, Hotel Bünda\, Davos Dorf
ORGANIZER:MAILTO:BPW Switzerland <davos@bpw.ch>
SUMMARY:Erfolgsteam 
END:VEVENT
END:VCALENDAR
