BEGIN:VCALENDAR
VERSION:2.0
PRODID:-//BPW Switzerland//NONSGML kigkonsult.se iCalcreator 2.16.12//
METHOD:PUBLISH
X-MS-OLK-FORCEINSPECTOROPEN:TRUE
BEGIN:VEVENT
UID:20260422T125829CEST-4523LvP7Tg@BPW Switzerland
DTSTAMP:20260422T105829Z
DESCRIPTION:Donnerstag\, 14. November 2013\, 16.30 bis 21.00 Uhr\,\nHTW\, P
 ulvermühlestrasse 57 in Chur\n\n\n\n\nPetra Aeberhard\, BPW Davos Klosters
 \, auf dem Podium des Jungunternehmerdialogs!\n\nProgramm\n3 Workshops\n\n
     Unternehmensgründung: Worauf es bei der Finanzierung ankommt\n    Sozi
 alversicherung und Vorsorge bei Einzelfirma bzw. GmbH/AG\n    Welche Unter
 stützung bietet der Treuhänder bei einer Firmengründung?\n\n\n3 Referate\n
 Herausforderungen in der Gründungsphase und wie Start-ups diese bewältigen
  können\nDr. Kerstin Wagner ı Professorin für Entrepreneurship ı Schweizer
 isches Institut für Entrepreneurship\, HTW Chur\nAlpenfischzucht – Von der
  Idee bis zur erfolgreichen Firma\nCurdin Capeder ı Jungunternehmer ı Luma
 re GmbH\nVom Mauerblümchen zum Powerseller: Verkauf und Akquise als Differ
 enzierungsmerkmal\nMathias Brändli ı dipl. Marketing Manager I.S.T ı Fachv
 orsteher ibW Höhere Fachschule Südostschweiz\n \nJungUNTERNEHMER Dialog\nF
 örderung des (Jung)-Unternehmertums\nWelche Rahmenbedingungen brauchen Sta
 rt-ups?\nWie können diese geschaffen werden?\n\n    Curdin Capeder ı Jungu
 nternehmer ı Lumare GmbH\n    Petra Aeberhard ı Jungunternehmerin ı Hotel 
 Alpenhof\n    Urs Kappeler ı Professor für Entrepreneurship ı HTW Chur\n  
   Ivo Frei ı Vorstandsmitglied Handelskammer und Arbeitgeberverband Graubü
 nden\n\nModeration\nReto Furter ı Die Südostschweiz\, Ressortleiter Region
 \n\nVernetzungsapéro und Ausklang\n\nInformationen und Anmeldung\n\nTicket
 preise\nEarly Bird Ticket bis 10.10.2013\n130.-\nTicket nach 10.10.2013\n1
 90.-\n\n\nClaudia Vieli Oertle\, Organisatorin des Jungunterehmerforums Gr
 aubünden und Thurgau\n
DTSTART:20131114T154500
DTEND:20131114T220000
LOCATION:HTW Chur\, Pulvermühlestrasse 57\, Chur
ORGANIZER:MAILTO:BPW Switzerland <davos@bpw.ch>
SUMMARY:Jungunternehmerforum Graubünden
END:VEVENT
END:VCALENDAR
