BEGIN:VCALENDAR
VERSION:2.0
PRODID:-//BPW Switzerland//NONSGML kigkonsult.se iCalcreator 2.16.12//
METHOD:PUBLISH
X-MS-OLK-FORCEINSPECTOROPEN:TRUE
BEGIN:VEVENT
UID:20260422T133043CEST-9929GvE1un@BPW Switzerland
DTSTAMP:20260422T113043Z
DESCRIPTION:Gesund\, fit und leistungsstark dank BEMER \n\nMIKRODURCHBLUTUN
 G - Hauptstrasse der Gesundheit \nFachvortrag von BEMER Partner Schwendiho
 f GmbH\, Frau Bea Näf-Brühwiler \nProgramm:\nDonnerstag\, 10. Oktober 2013
  \n18.00 bis ca. 21.00 Uhr \nKantinenraum von Erdbeer-Betrieb Beiner AG\, 
 Landquart \n\nInformation und Anmeldung \ninfo@hets4you.ch / tel. 079 287 
 42 55
DTSTART:20131010T180000
DTEND:20131010T210000
LOCATION:Erdbeerhof Jürg Beiner\, Landquart
ORGANIZER:MAILTO:BPW Switzerland <davos@bpw.ch>
SUMMARY:Fachvortrag - Mikrodurchblutung - Hauptstrasse der Gesundheit
END:VEVENT
END:VCALENDAR
