BEGIN:VCALENDAR
VERSION:2.0
PRODID:-//BPW Switzerland//NONSGML kigkonsult.se iCalcreator 2.16.12//
METHOD:PUBLISH
X-MS-OLK-FORCEINSPECTOROPEN:TRUE
BEGIN:VEVENT
UID:20260422T125243CEST-28364jvEne@BPW Switzerland
DTSTAMP:20260422T105243Z
DESCRIPTION:Informal Get-Together in English\n\n\n\n \n2nd January 2014 - H
 appy New Year Get-Together with Prosecco and Snacks\n\nRegistration requir
 ed until 30th December 2013 \n\nPrice per person sfrs 22.00 \n\nNew Years 
 Get Together\nHilton Garden Inn\, Davos Platz\n19 - 20 hours \n\nRegistrat
 ion\n 
DTSTART:20140102T190000
DTEND:20140102T200000
LOCATION:BPW Davos Klosters\, Hilton Garden Inn\, Davos Platz
ORGANIZER:MAILTO:BPW Switzerland <davos@bpw.ch>
SUMMARY:Afterwork Chat - Happy New Year
END:VEVENT
END:VCALENDAR
