BEGIN:VCALENDAR
VERSION:2.0
PRODID:-//BPW Switzerland//NONSGML kigkonsult.se iCalcreator 2.16.12//
METHOD:PUBLISH
X-MS-OLK-FORCEINSPECTOROPEN:TRUE
BEGIN:VEVENT
UID:20260422T133329CEST-2694kXxcig@BPW Switzerland
DTSTAMP:20260422T113329Z
DESCRIPTION:Programm\n\n19.15 Uhr\nApéro und Begrüssung im Hotel Grischa Da
 vos\n\n20.00 Uhr\nÜberraschungs-Showeinlage mit anschliessendem Abendessen
 \n\nMenu\n\n3-Gang Menu inkl. Apéro  \nFr. 65.00\n\nKosten\n\nDer Anlass s
 elber ist kostenlos. Essen und Getränke gehen zu Lasten der Teilnehmenden 
 und werden direkt vor Ort in bar beglichen.\n\nWeg\n\nEs ist ein Shuttle-B
 us organisiert. Bitte bei der Anmeldung eintragen\, ob der Shuttle-Bus ben
 utzt wird.\n\nKosten pro Person retour:\n\nab Serneus Fr. 40.00\nab Kloste
 rs Fr. 30.00\nab Laret/Wolfgang Fr. 20.00\n \n\nAnmeldung \nbis Donnerstag
 \, 31. Oktober 2013\n\nüber den Anmeldedoodle \nper Mail an Elsbeth Kluker
 \noder Telefon 079 749 25 27\n\n \n
DTSTART:20131104T191500
DTEND:20131104T223000
ORGANIZER:MAILTO:BPW Switzerland <davos@bpw.ch>
SUMMARY:5er Treff im Hotel Grischa Davos
END:VEVENT
END:VCALENDAR
