BEGIN:VCALENDAR
VERSION:2.0
PRODID:-//BPW Switzerland//NONSGML kigkonsult.se iCalcreator 2.16.12//
METHOD:PUBLISH
X-MS-OLK-FORCEINSPECTOROPEN:TRUE
BEGIN:VEVENT
UID:20260422T130957CEST-6427x2ChhU@BPW Switzerland
DTSTAMP:20260422T110957Z
DESCRIPTION:\n\nEinführungsreferat Barbara Steiner\, Sachbearbeiterin Steue
 ramt Gemeinde Davos\n\nWarum heisst es in Davos doch so schön\; „die Steue
 rrechnung kommt mit dem ersten Schnee“? Für was bezahlen wir überhaupt Ste
 uern? Wie kann ich Rückfragen und Probleme mit dem Steueramt verhindern? W
 as für Aufgaben hat eigentlich eine Steuersachbearbeiterin? Mit ihrem Refe
 rat gibt uns Barbara Steiner einen Einblick in ihre Tätigkeiten. Mit einer
  Überraschung wird sie uns einen Blick hinter die Kulissen eines uns nicht
  ganz unbekannten Clubs ermöglichen.\n \nProgramm\n\n19.00 Uhr\nApéro im R
 estaurant Bündnerhof\nAnschliessend Referat und Nachtessen\n\nMenu\n\nGemi
 schter Salat\nKalbsgeschnetzeltes mit Rösti\nFr. 35.00\n\nVegi:\nGemischte
 r Salat\nGemüseteller mit Rösti\nFr. 30.00\n\nDessert\nHausgemachte Joghur
 tterrine mit Früchten\nFr. 8.00\n\nKosten\n\nDer Anlass selber ist kostenl
 os. Essen und Getränke gehen zu Lasten der Teilnehmenden und werden direkt
  vor Ort in bar beglichen.\n\nWeg\n\nWir bilden Fahrgemeinschaften. Bitte 
 bei der Anmeldung eintragen\, ob ein Mitfahrplatz gewünscht wird.\n\nAnmel
 dung \nbis Montag\, 6. Januar 2014\n\nüber den Anmeldedoodle\n\nper Mail a
 n Elsbeth Kluker\noder Telefon 079 749 25 27\n\n\n 
DTSTART:20140108T190000
DTEND:20140108T230000
LOCATION:BPW Davos Klosters\, Hotel Bündnerhof\, Davos Platz
ORGANIZER:MAILTO:BPW Switzerland <davos@bpw.ch>
SUMMARY:Liebesgrüsse aus dem Rathaus
END:VEVENT
END:VCALENDAR
