BEGIN:VCALENDAR
VERSION:2.0
PRODID:-//BPW Switzerland//NONSGML kigkonsult.se iCalcreator 2.16.12//
METHOD:PUBLISH
X-MS-OLK-FORCEINSPECTOROPEN:TRUE
BEGIN:VEVENT
UID:20260422T125338CEST-2704rEjMkV@BPW Switzerland
DTSTAMP:20260422T105338Z
DESCRIPTION:12. Februar 2014 im Hotel Seehof\n\n\n \n\n\nProgramm\n\n19.00 
 Uhr\nApéro im Hotel Seehof\nAnschliessend Kerzenlichtfeier und Abendessen
 \n \n\nMenu\n\nGeräuchertes Forellenfilet mit Schwarzbrot\, Gurke\, Meerre
 ttich\, Salatbukett\n\nRindspaillard gefüllt mit Rucola dazu Peperoni-Vina
 igrette\nGebratene Zucchetti und Aubergine\nKartoffelgnocchi\n\nVegi\n\nRa
 nden Carpaccio mariniert mit Thymian-Honigvinaigrette und pochierte Birnen
 schnitze\n\nGeräucherter Tofu vom Grill dazu Peperoni-Vinaigrette\nGebrate
 ne Zucchetti und Aubergine\nKartoffelgnocchi\n \n\nDessert\n\nEingemachte 
 Beeren mit Vanilleglacé und Rahm\n\n3-Gang Menu Fr. 45.50\n \n\nKosten\n\n
 Der Anlass selber ist kostenlos. Essen und Getränke gehen zu Lasten der Te
 ilnehmenden und werden direkt vor Ort in bar beglichen.\n \n\nWeg\n\nWir b
 ilden Fahrgemeinschaften. Bitte bei der Anmeldung eintragen\, ob ein Mitfa
 hrplatz gewünscht wird.\n \n\nAnmeldung \nbis Montag\, 10. Februar 2014\nü
 ber den Anmeldedoodle 
DTSTART:20140212T190000
DTEND:20140212T230000
LOCATION:BPW Davos Klosters\, Hotel Seehof\, Davos Dorf
ORGANIZER:MAILTO:BPW Switzerland <davos@bpw.ch>
SUMMARY:Kerzenlichtfeier
END:VEVENT
END:VCALENDAR
