BEGIN:VCALENDAR
VERSION:2.0
PRODID:-//BPW Switzerland//NONSGML kigkonsult.se iCalcreator 2.16.12//
METHOD:PUBLISH
X-MS-OLK-FORCEINSPECTOROPEN:TRUE
BEGIN:VEVENT
UID:20260422T125221CEST-6119M5PJfT@BPW Switzerland
DTSTAMP:20260422T105221Z
DESCRIPTION:\nWir treffen uns zum gemütlichen Lunch im Strozzi's Davos Plat
 z.\n\nEssen à la carte\n \nAnmeldung\n
DTSTART:20140307T120000
DTEND:20140307T133000
LOCATION:BPW Davos Klosters\, Restaurant Strozzi's
ORGANIZER:MAILTO:BPW Switzerland <davos@bpw.ch>
SUMMARY:Equal Pay Day
END:VEVENT
END:VCALENDAR
