BEGIN:VCALENDAR
VERSION:2.0
PRODID:-//BPW Switzerland//NONSGML kigkonsult.se iCalcreator 2.16.12//
METHOD:PUBLISH
X-MS-OLK-FORCEINSPECTOROPEN:TRUE
BEGIN:VEVENT
UID:20260422T125451CEST-4971PSwivf@BPW Switzerland
DTSTAMP:20260422T105451Z
DESCRIPTION:Autorin Barbara Kopp liest aus der Biographie von Laure Wyss.\n
 \nVeranstaltung zum Internationalen Tag der Frau\nDavoser Frauenorganisati
 onen - Kunstgesellschaft Davos - Kirchner Museum Davos\n\nSamstag\, 8. Mär
 z 2014\, um 17.00 Uhr\, Kirchner Museum Davos\n\n\nLaure Wyss (1913–2002) 
 führte das Leben einer alleinerziehenden\, berufstätigen Frau zu einer Zei
 t\, als dieser Lebensentwurf noch aussergewöhnlich war.\nIm Zweiten Weltkr
 ieg schloss sie sich in Schweden dem kirchlichen Widerstand an. In den Anf
 ängen des Schweizer Fernsehens entwickelte sie das «Magazin der Frau» und 
 war 1970 Mitbegründerin des «Tages-Anzeiger-Magazins».\nBarbara Kopp zeich
 net das farbige Porträt einer leidenschaftlichen und mutigen Frau\, die du
 rchlebte\, worüber sie schrieb.\n 
DTSTART:20140308T170000
DTEND:20140308T200000
LOCATION:BPW Davos Klosters\, Kirchner Museum\, Davos Platz
ORGANIZER:MAILTO:BPW Switzerland <davos@bpw.ch>
SUMMARY:Laure Wyss - Leidenschaften einer Unangepassten
END:VEVENT
END:VCALENDAR
